BEGIN:VCALENDAR
PRODID:-//eluceo/ical//2.0/EN
VERSION:2.0
CALSCALE:GREGORIAN
BEGIN:VEVENT
UID:793a065385100dc3f0a384255e476b45
DTSTAMP:20260423T162732Z
SUMMARY:Webinář - Jak snížit riziko při obchodování s Čínou - nák
 up z Číny
DESCRIPTION:Název akce: Webinář - Jak snížit riziko při obchodování
  s Čínou - nákup z Číny\nURL: https://www.spcr.cz/webinar-jak-snizit-
 riziko-pri-obchodovani-s-cinou-nakup-z-ciny\nPopis: \n\nVelvyslanectví Č
 eské republiky v Pekingu\, ve spolupráci s agenturou CzechTrade a prá
 vní kanceláří Burkardt & Partner Shanghai si dovoluje pozvat veškeré
  zájemce na webinář s názvem „Jak snížit riziko při obchodován
 í s Čínou – nákup z Číny“\nČína je pro Českou republiku dru
 hým nejvýznamnějším obchodním partnerem a největším obchodním pa
 rtnerem mimo EU. Díky široké nabídce\, příznivému poměru ceny a kv
 ality výrobků preferuje řada českých společností nákup právě od 
 čínských dodavatelů.\nV praxi je však s nákupem zboží z Číny spo
 jena celá řada rizik\, z nichž českým kupujícím mohou vznikat zna
 čné škody\, ať již se jedná o množstevní či kvalitativní vady\,
  případně další nekalá jednání.\nV rámci webináře „Jak sní
 žit rizika při obchodování s Čínou – nákup z Číny“ dne 19. 
 února 2025 od 9:00 do 10:30 hodin\, organizovaném Velvyslanectvím Čes
 ké republiky v Pekingu ve spolupráci s agenturou CzechTrade a advoká
 tní kanceláří Burkardt & Partner\, se dozvíte\, jaká rizika hrozí 
 při nákupu zboží z Číny a jak lze tato rizika minimalizovat.\nV I. 
 části webináře představí pan Adam Kupka\, M.A.\, ekonomický diplo
 mat na velvyslanectví České republiky v Pekingu\, mimo jiné roli velvy
 slanectví při podpoře českých společností obchodujících s Čínou
 \, základní informace k prověřování čínských obchodních partner
 ů a zásady pro nákup z Číny.\nVe II. části bude pan Ing. Aleš Č
 ervinka\, ředitel zahraniční kanceláře CzechTrade Čína – Šanghaj
 \, z praktického hlediska hovořit o rizicích spojených s nákupy z Č
 íny\, jako jsou kvalita výrobků\, komunikační bariéry\, dodací lhů
 ty\, logistika\, platební podmínky atd. Dále účastníkům poskytne pr
 aktické tipy ke snížení rizik a představí služby agentury CzechTrad
 e.\nVe III. části bude pan Mgr. Ondřej Zapletal\, právník u čínsk
 é advokátní kanceláře Burkardt & Partner\, Šanghaj\, hovořit o důl
 ežitosti a roli smluv při obchodování s Čínou a jejich podstatných 
 prvcích. Na základě jeho právní praxe v Číně pan Zapletal uvede n
 ěkteré detaily\, které mohou rozhodnout o úspěšnosti obchodní trans
 akce a případných nároků vůči čínskému dodavateli.\nÚčastníci
  budou mít v rámci Q&A možnost klást otázky k tématu a zapojit se do
  diskuze.\nTermín webináře: Středa\, 19. února 2024\, 9:00 – 10:30 
 (středoevropského času)\nWebinář je zdarma.\nPro účast na webinář
 i vyplňte registrační formulář zde. Odkaz pro připojení Vám bude z
 aslán automaticky.\nV případě dotazů můžete kontaktovat zástupce 
 ředitele Sekce mezinárodních vztahů Mikuláš Nozara na mnozar@spcr.cz
 .\n
URL:https://www.spcr.cz/webinar-jak-snizit-riziko-pri-obchodovani-s-cinou-n
 akup-z-ciny
DTSTART:20250219T090000
DTEND:20250219T103000
LOCATION:
END:VEVENT
END:VCALENDAR
