BEGIN:VCALENDAR
PRODID:-//eluceo/ical//2.0/EN
VERSION:2.0
CALSCALE:GREGORIAN
BEGIN:VEVENT
UID:04aa903281bbe2035e3ae81530a7fb13
DTSTAMP:20260423T150052Z
SUMMARY:Podnikatelská mise do USA
DESCRIPTION:Název akce: Podnikatelská mise do USA\nURL: https://www.spcr.
 cz/podnikatelska-mise-do-usa-4\nPopis: \n\nSvaz průmyslu a dopravy ČR (S
 P ČR) si Vás dovoluje informovat o možnosti účasti v podnikatelské m
 isi do Spojených států amerických v termínu 23. března až 29. břez
 na 2025. Mise je organizovaná SP ČR z pověření Ministerstva dopravy 
 ČR a koná se při příležitosti pracovní návštěvy ministra doprav
 y Martina Kupky do USA. Vedoucím podnikatelské delegace bude viceprezide
 nt SP ČR Bohdan Wojnar. \nMise je zaměřena na firmy a výzkumné týmy
  z oblastí dopravy\, automotive a smart mobility\, dále letectví\, inov
 ací v dopravě\, dronů\, logistiky\, kosmických technologií a aplikac
 í. V rámci mise navštíví delegace Atlantu (Georgia\, USA)\, San Franc
 isko (Kalifornie\, USA) a Detroit (Michigan\, USA). Na organizaci program
 u na místě se podílí Velvyslanectví ČR ve Washingtonu D.C. a Generá
 lní konzuláty v Los Angeles a Chicagu\, stejně jako kanceláře CzechT
 rade v Chicagu a San Francisku a CzechInvest v San Francisku\, ve spolupr
 áci s místními partnery.\nVydejte se na podnikatelskou misi plnou pří
 ležitostí\, kde na vás čekají zajímavé B2B aktivity\, networkingov
 é akce a pitch eventy za přítomnosti ministra dopravy\, vedoucích zast
 upitelských úřadů a zejména významných amerických partnerů\, inve
 storů a firem. V programu rovněž plánujeme řadu technických návšt
 ěv\, např. největšího povoleného testovacího polygonu v USA v GoMen
 tum\, workshopů a jednání s předními americkými globálními technol
 ogickými a inovativními firmami\, centry na podporu výzkumu a uplatněn
 í řešení aplikovaného výzkumu\, investic a dalších aktivit. Souč
 ástí programu bude také setkání s ministrem dopravy\, velvyslancem Č
 R v USA a generálními konzuly ČR v Los Angeles a Chicagu\, kteří vám
  pomohou otevřít dveře k novým obchodním příležitostem. Připojte 
 se a objevte\, co vše může váš byznys v USA dokázat!\n \n \nPředb
 ěžný program mise (program se upřesňuje dle jednání s americkými p
 artnery\, u některých aktivit bude omezen formát delegace): (Konkrétn
 í subjekty jsou předmětem upřesnění až v okamžiku\, kdy je známo 
 přesné složení členů delegace\, včetně typů společností které 
 se účastní. Stejně tak uvítáme návrhy na významné subjekty\, kter
 é byste rádi do programu zařadili a v případně průřezové vhodnost
 i zvážíme jejich oslovení a zapojení.)\n\nNeděle 23.3.2025Dopoledne 
 odlet z PrahyOdpoledne přílet do AtlantyPřesun do hotelu\, ubytování\
 n\n\nPondělí 24.3. 2025 – AtlantaDopoledne B2B a pitch/networking even
 tNávštěva inovativních firem a institucí\, např. plánujeme návšt
 ěvu v Georgia Tech\, Letiště Atlanta  Večer přelet do San Francisca\
 n\n\nÚterý 25.3. 2025 – San FranciscoExkurze a návštěva technologic
 ké instituce (bude upřesněno) Odpoledne B2B a pitch/networking event\n\
 n\nStředa 26.3. 2025 – San FranciscoNávštěva a možnost prezentace v
  GoMentum Station\, největšího testovacího polygonu pro datově propoj
 ená a autonomní vozidla v USA\nNávštěva Port of Oakland\nNávštěva 
 inovativních firem a institucí z oblasti Bay Area (bude upřesněno)\nVe
 čer networkingová akce \n\n\nČtvrtek 27.3. 2025 – San Francisco Dopo
 ledne pracovní snídaně s ministrem Martinem Kupkou Odpoledne přelet do
  Detroitu \n\n\nPátek 28.3. 2025 – Detroit Dopoledne B2B a pitch/netwo
 rking event Odpoledne návštěva inovativních firem a institucí Večer 
 odlet do Prahy\n\n\nSobota 29.3. 2025 Přílet do Prahy\n\nProgram bude d
 ále doplňován a upřesňován\, následně sdílen s účastníky. \nZ
 álohová cena za účast v podnikatelské delegaci je 120.000\,- Kč vče
 tně DPH pro nečleny a 104.000\,- Kč včetně DPH pro členy SP ČR. Obs
 ah účastnického balíčku je rozepsán v přihlášce.\nV případě z
 ájmu o účast Vás prosíme o následující: \n\nVyplnění a podepsá
 ní Závazné přihlášky\, její naskenování a zaslání e-mailem na a
 dresu djoza@spcr.cz a mnatafalusi@spcr.cz nejpozději do 7. února 2025 do
  17:00.\nSoučasně s přihláškou je nutné vyplnit i elektronický form
 ulář\, který obsahuje informace nezbytné pro Vaše uvedení v katalogu
  podnikatelské mise\, vyhledání vhodných partnerů pro B2B networking\
 , ale i pro odbavení v letadle vládní letky či ubytování v hotelu.\n
 Zaslání skenu datové stránky vašeho pasu (platnost pasu min. 6 měsí
 ců po návratu zpět do ČR) a skenu stránky ve stejném pase s platným
  vylepeným americkým vízem B1/B2 – pokud jím disponujete.\nProsíme 
 také o vyplnění jednoho vzorového snímku v powerpointu do společné 
 prezentace\, která může být promítána v rámci networkingových akc
 í.\nZáslání profilové fotografie účastníka do připraveného katal
 ogu firem (min. rozlišení 500 Kb\, 600 x 800 pixelů)\n\nVzhledem ke sku
 tečnosti\, že se cesta uskuteční vládním speciálem\, MUSÍ všichni
  účastníci na palubě disponovat platným americkým vízem typu B1/B2 
 vylepeným v pase. ESTa nestačí. Vízum uděluje ZÚ USA v Praze a jeho 
 udělení je spojené s návštěvou na ZÚ a případným pohovorem. Plat
 nost tohoto víza je 5 – 10 let.\nPokud již disponujete tímto platným
  vízem (optimální varianta)\, zašlete nám prosím jeho sken. Pokud ni
 koliv\, po Vašem přihlášení Vám zašleme instrukce k vyřízení ví
 za na ZÚ USA v Praze.\nUpozorňujeme\, že bez vyplnění elektronického
  formuláře nemůžeme Vaši přihlášku zpracovat. Výběr místních f
 irem a partnerů pro networking bude probíhat na základě Vámi dodanýc
 h profilů a informací o Vaší firmě v tomto elektronickém formuláři
 .  Prosíme proto o co nejkonkrétnější upřesnění Vašich zájmů.\
 nPři vyplňování profilu mějte prosím na paměti\, že slouží také
  jako podklad pro výrobu prezentačního online a tištěného katalogu m
 ise\, jehož cílem je co nejlépe druhou stranu seznámit s profily a kon
 taktními údaji zúčastněných firem.\nPo obdržení Vaší závazné p
 řihlášky a provedení elektronické registrace Vám zašleme další po
 kyny a zálohovou fakturu na účastnický poplatek.  Další podklady a 
 informace Vám budeme průběžně zasílat elektronickou poštou. Podnika
 telskou misi organizačně zajišťují manažeři Sekce vnějších vztah
 ů Dominik Joza (djoza@spcr.cz) a Martin Natafaluši (mnatafalusi@spcr.cz)
 . Bližší informace Vám poskytneme na tel. 733 126 501.\nVzhledem k ome
 zené kapacitě a potřebě vyřízení víz do USA prosíme o včasnou re
 gistraci. Pořadatelé si vyhrazují právo odmítnout zájemce o účast 
 s ohledem na vhodnost oborového zaměření v případě převisu poptáv
 ky nad počtem míst v letadle. Děkujeme za pochopení.\nTěšíme se na 
 Vaši účast a spolupráci s Vámi.Více o teritoriu a obchodních příl
 ežitostech v něm najdete pod odkazem níže:\nBusinessInfo - USA\n
URL:https://www.spcr.cz/podnikatelska-mise-do-usa-4
DTSTART:20250323T000000
DTEND:20250329T235959
LOCATION:
END:VEVENT
END:VCALENDAR
