BEGIN:VCALENDAR
PRODID:-//eluceo/ical//2.0/EN
VERSION:2.0
CALSCALE:GREGORIAN
BEGIN:VEVENT
UID:a156d537d8beeea221e2e708952c0534
DTSTAMP:20260423T150509Z
SUMMARY:Zaměstnávání cizinců ze třetích zemí
DESCRIPTION:Název akce: Zaměstnávání cizinců ze třetích zemí\nURL:
  https://www.spcr.cz/zamestnavani-cizincu-ze-tretich-zemi\nPopis: \n\nSvaz
  průmyslu a dopravy ČR si Vás v rámci projektu „Podpora národního\
 , odvětvového a regionálního sociálního dialogu v ČR“ dovoluje po
 zvat na diskusní fórum ZAMĚSTNÁVÁNÍ CIZINCŮ ZE TŘETÍCH ZEMÍ.Cíl
 em diskusního fóra je seznámit účastníky s aktuálními legislativn
 ími podmínkami. Účastníci získají praktické informace o zaměstná
 vání cizinců\, dozví se\, jak úspěšně integrovat a stabilizovat za
 hraniční zaměstnance ve své firmě. Získají inspiraci z příkladů 
 dobré praxe od zkušených zaměstnavatelů. Akce je určena pro ředitel
 e\, manažery a personalisty\, kteří zvažují zaměstnávání pracovn
 íků ze zahraničí nebo se touto problematikou již aktivně zabývají.
 \nPROGRAM ∙ Zaměstnávání cizinců ze třetích zemí (Tereza Hejlov
 á\, SP ČR) \n\nProgram kvalifikovaný zaměstnanec\nLex Ukrajina 7\nAktu
 ální novinky\nPilotní projekt Indonésie\n\n∙ Příklady dobré praxe
 : Indonésie - pohled zaměstnavatele (Vlastimil Václavík\, Škoda Group
 ) o Proč Asie? \n\no Diverzifikace náborových trhů\n\n∙ Nábor na Fi
 lipínách a další možnosti náboru ve třetích zemích (Gabriela Pch
 álková\, KASEA CZ) \n\no Výhody a nevýhody zaměstnávání z Filipín
 \no Jak probíhá nábor?\no Nejčastější profese a výhody dalších n
 árodností\n\n∙ Jak zajistit úspěšný onboarding a stabilizaci zahra
 ničních zaměstnanců? (Jan Rozkopal\, KASEA CZ) \n\no Úspěšný onboa
 rding pracovníků z Filipín\no Jak motivovat a stabilizovat zahraniční
  pracovníky\no Co Filipínci očekávají?\n\n∙ Diskuze \n\no Odpovědi
  na vaše otázky a sdílení zkušeností\n\nProjekt Podpora národního\
 , odvětvového a regionálního sociálního dialogu v ČR je financován
  Evropskou unií prostřednictvím Operačního programu Zaměstnanost+ a 
 státního rozpočtu České republiky. Projekt realizuje Svaz průmyslu a
  dopravy České republiky spolu s Českomoravskou konfederací odborovýc
 h svazů. ČASOVÝ HARMONOGRAM 09:45 – 10:00 Registrace účastníků\, 
 ranní káva 10:00 – 11:30 Úvod\, 1. informační blok 11:30 – 11:45 
 Přestávka 11:45 – 12:45 2. informační blok\, diskuse a sdílení zku
 šeností\nREGISTRACE Na akci se\, prosím\, registrujte ZDE do pondělí 
 20. 1. 2025.\nV případě dotazů se prosím obraťte na regionální kan
 celář SP ČR pro Plzeňský a Jihočeský kraj\, Bc. Kamilu Babuškovou\
 , e-mail: kbabuskova@spcr.cz\, mobil: 733 643 518.Projekt Podpora národn
 ího\, odvětvového a regionálního sociálního dialogu v ČR je financ
 ován Evropskou unií prostřednictvím Operačního programu Zaměstnanos
 t+ a státního rozpočtu České republiky. Projekt realizuje Svaz průmy
 slu a dopravy České republiky spolu s Českomoravskou konfederací odbor
 ových svazů.\n
URL:https://www.spcr.cz/zamestnavani-cizincu-ze-tretich-zemi
DTSTART:20250128T100000
DTEND:20250128T124500
LOCATION:
END:VEVENT
END:VCALENDAR
