BEGIN:VCALENDAR
PRODID:-//eluceo/ical//2.0/EN
VERSION:2.0
CALSCALE:GREGORIAN
BEGIN:VEVENT
UID:babec21e6d3eb4a79885336bea0c434a
DTSTAMP:20260423T162941Z
SUMMARY:Start-upy a expanze - Jak na úspěšné jednání s investory
DESCRIPTION:Název akce: Start-upy a expanze - Jak na úspěšné jednání
  s investory\nURL: https://www.spcr.cz/start-upy-expanze-jak-na-uspesne-je
 dnani-s-investory\nPopis: \n\nDovolujeme si Vás pozvat na online seminá
 ř pořádaný agenturou Czech-Trade\, který vám pomůže připravit se
  na jednání s investory a získat financování pro váš byznys za fér
 ových podmínek. \nAnotace:\n\nPřipravte se na jednání s investory a 
 získejte financování pro váš start-up\nNaučte se vyjednávat investi
 ce za férových podmínek\nZjistěte\, jak přilákat investory a uspět 
 v byznysu\nVyhněte se rizikům a využijte investice ke svému rozvoji\nP
 raktické tipy a příklady\, jak získat investici efektivně\n\nVíce in
 formací a možnost registrace zde.\n
URL:https://www.spcr.cz/start-upy-expanze-jak-na-uspesne-jednani-s-investor
 y
DTSTART:20250206T100000
DTEND:20250206T120000
LOCATION:
END:VEVENT
END:VCALENDAR
