BEGIN:VCALENDAR
PRODID:-//eluceo/ical//2.0/EN
VERSION:2.0
CALSCALE:GREGORIAN
BEGIN:VEVENT
UID:79d400d45804eb3c519ab5f189ead0be
DTSTAMP:20260423T192727Z
SUMMARY:Patenty a značka – Vlastní ochrana a zmapování konkurence (ne
 jen) při exportu
DESCRIPTION:Název akce: Patenty a značka – Vlastní ochrana a zmapován
 í konkurence (nejen) při exportu\nURL: https://www.spcr.cz/patenty-znack
 a-vlastni-ochrana-zmapovani-konkurence-nejen-pri-exportu\nPopis: \n\nDovol
 ujeme si Vás pozvat na online seminář pořádaný agenturou Czech-Trade
 \, který vám přiblíží klíčové aspekty ochrany duševního vlastn
 ictví z pohledu exportéra. \nAnotace:\n\nNaučte se efektivně chránit
  své duševní vlastnictví\nZískejte praktické tipy k patentům a ochr
 anným známkám\nZjistěte\, kdy utajit\, zveřejnit nebo právně chrán
 it věci\nObjevte dotační programy pro snížení nákladů ochrany\nPod
 pořte svůj export úspěšnou strategií duševního vlastnictví\n\nVí
 ce informací a možnost registrace zde. \n
URL:https://www.spcr.cz/patenty-znacka-vlastni-ochrana-zmapovani-konkurence
 -nejen-pri-exportu
DTSTART:20250130T100000
DTEND:20250130T110000
LOCATION:
END:VEVENT
END:VCALENDAR
