BEGIN:VCALENDAR
PRODID:-//eluceo/ical//2.0/EN
VERSION:2.0
CALSCALE:GREGORIAN
BEGIN:VEVENT
UID:568a48946ce76793eef4d16c1061284c
DTSTAMP:20260423T163201Z
SUMMARY:Přesvědčivá prezentace v angličtině pro exportéry
DESCRIPTION:Název akce: Přesvědčivá prezentace v angličtině pro expo
 rtéry\nURL: https://www.spcr.cz/presvedciva-prezentace-v-anglictine-pro-e
 xportery\nPopis: \n\nDovolujeme si Vás pozvat na seminář pořádaný ag
 enturou CzechTrade\, který vám pomůže zdokonalit vaše prezentační 
 dovednosti pro mezinárodní obchodní prostředí. Anotace:Zlepšete sv
 é prezentační dovednosti pro mezinárodní obchodní prostředíNaučte
  se vytvářet jasné a přesvědčivé prezentaceOsvojte si techniky argu
 mentace a zvládání námitekProcvičte prakticky přednes s možností o
 kamžité zpětné vazbyZískejte tipy\, jak posunout vaše prezentační 
 dovednosti o krok dálVíce informací a možnost registrace zde. \n
URL:https://www.spcr.cz/presvedciva-prezentace-v-anglictine-pro-exportery
DTSTART:20250220T090000
DTEND:20250220T170000
LOCATION:CzechTrade\, Praha
END:VEVENT
END:VCALENDAR
