BEGIN:VCALENDAR
PRODID:-//eluceo/ical//2.0/EN
VERSION:2.0
CALSCALE:GREGORIAN
BEGIN:VEVENT
UID:ef06377541d2869bfcbe84efe912fe1a
DTSTAMP:20260423T163342Z
SUMMARY:SEO pro exportéry II - Využití obsahové optimalizace
DESCRIPTION:Název akce: SEO pro exportéry II - Využití obsahové optima
 lizace\nURL: https://www.spcr.cz/seo-pro-exportery-ii-vyuziti-obsahove-opt
 imalizace\nPopis: \n\nDovolujeme si Vás pozvat na seminář pořádaný a
 genturou Czech-Trade\, který se zaměří na klíčové aspekty optimali
 zace pro vyhledávače (SEO)\, zásadní pro zvýšení viditelnosti vaše
 ho webu a dosažení konkurenční výhody. Pod vedením odborníka Milan
 a Fialy se naučíte efektivní analýzu klíčových slov\, včetně prá
 ce s nástroji jako Google Keyword Planner či Ahrefs\, a pochopíte strat
 egii výběru správných klíčových slov.\nAnotace:\n\nPoznejte klíčo
 vé strategie SEO a zlepšete viditelnost vašeho webu\nNaučte se efektiv
 ní analýzu klíčových slov\nZaměříme se na obsahové SEO a optimali
 zaci obsahu\nObjevte metody linkbuildingu a analýzu konkurence\nZískejte
  praktické tipy a posuňte svůj web výš\n\nVíce informací a možnost
  registrace zde. \n
URL:https://www.spcr.cz/seo-pro-exportery-ii-vyuziti-obsahove-optimalizace
DTSTART:20250211T090000
DTEND:20250211T130000
LOCATION:
END:VEVENT
END:VCALENDAR
