BEGIN:VCALENDAR
PRODID:-//eluceo/ical//2.0/EN
VERSION:2.0
CALSCALE:GREGORIAN
BEGIN:VEVENT
UID:3b4978933ebfef4ed8cab1dfe361b690
DTSTAMP:20260423T163201Z
SUMMARY:Brazílie - Exportní příležitosti a obchodní tipy
DESCRIPTION:Název akce: Brazílie - Exportní příležitosti a obchodní 
 tipy\nURL: https://www.spcr.cz/brazilie-exportni-prilezitosti-obchodni-tip
 y\nPopis: \n\nDovolujeme si Vás pozvat na on-line seminář pořádaný a
 genturou Czech-Trade\, který se zaměří na klíčové aspekty obchodov
 ání na brazilském trhu – dynamickém regionu s obrovským exportním 
 potenciálem pro české firmy. Ředitel zahraniční kanceláře CzechTra
 de v Brazílii Jan Michálek vás provede tématy\, která jsou zásadní 
 pro úspěšné podnikání v Brazílii a Latinské Americe.\nAnotace:\n\n
 Objevte příležitosti na dynamickém brazilském trhu s CzechTrade\nDozv
 íte se klíčové informace a exportní strategie\nZaměříme se na sní
 žení celních bariér a import\nPředstavíme perspektivní obory a zakl
 ádání firem v Brazílii\nZískejte praktické tipy\, cenné kontakty a 
 odpovědi na vaše dotazy\n\nVíce informací a možnost registrace zde. 
 \n
URL:https://www.spcr.cz/brazilie-exportni-prilezitosti-obchodni-tipy
DTSTART:20250204T140000
DTEND:20250204T153000
LOCATION:
END:VEVENT
END:VCALENDAR
