BEGIN:VCALENDAR
PRODID:-//eluceo/ical//2.0/EN
VERSION:2.0
CALSCALE:GREGORIAN
BEGIN:VEVENT
UID:4798fc0871c4f9d75b34cac8bfd3aa19
DTSTAMP:20260423T163252Z
SUMMARY:Podnikatelská mise ministerstva životního prostředí do Indie
DESCRIPTION:Název akce: Podnikatelská mise ministerstva životního prost
 ředí do Indie\nURL: https://www.spcr.cz/podnikatelska-mise-ministerstva-
 zivotniho-prostredi-do-indie\nPopis: \n\nDovolujeme si Vás informovat o p
 odnikatelské misi ministerstva životního prostředí (MŽP) do Indie\, 
 která je primárně zaměřena na odpadové/oběhové hospodářství\, v
 odohospodářství\, ochranu kvality ovzduší\, geologii a obnovitelné z
 droje. Cesta se bude konat v termínu 4.-8.března 2025 a delegace běhe
 m ní navštíví indické hlavní město Nové Dillí a hlavní město 
 států Paňdžáb a Harijána\, Chandígarh.\nProgram mise je časově na
 vázán na Mezinárodní summit pro udržitelný rozvoj\, který představ
 uje platformu pro setkání zástupců soukromé i státní sféry se záj
 mem o plnění cílů udržitelného rozvoje (SDGs). Hlavním tématem nad
 cházejícího summitu má být „Partnerství pro urychlení udržiteln
 ého rozvoje a klimatických řešení“.\nPodnikatelská mise do Indie b
 ude dále zahrnovat vlastní B2B akce pro představení konkrétní nabíd
 ky a výměnu kontaktů českých a indických zástupců obchodní sféry
  a průmyslu v oblasti životního prostředí. Networkingové semináře 
 se uskuteční v obou navštívených městech. Součástí cesty bude pod
 le časových možností také exkurze do konkrétního zařízení či uk
 ázka realizovaného projektu zaměřeného na ochranu životního prostř
 edí.\nČást výdajů (místní transfery\, B2B\, společenské akce) bud
 e hrazena z finanční podpory MŽP\, ostatní výdaje (dopravu\, ubytov
 ání) si účastníci platí sami.\nKontaktní osobou na MŽP\, kam se mo
 hou zájemci obrátit s dotazy nebo se přihlásit\, je Mgr. Pavla Hosnedl
 ová\, e-mail:  Pavla.Hosnedlova@mzp.gov.cz.\n \n \n \n
URL:https://www.spcr.cz/podnikatelska-mise-ministerstva-zivotniho-prostredi
 -do-indie
DTSTART:20250304T080000
DTEND:20250308T170000
LOCATION:Indie
END:VEVENT
END:VCALENDAR
