BEGIN:VCALENDAR
PRODID:-//eluceo/ical//2.0/EN
VERSION:2.0
CALSCALE:GREGORIAN
BEGIN:VEVENT
UID:6788724eec9125912e37b477564bd406
DTSTAMP:20260423T150246Z
SUMMARY:Informační den o projektech dopravní infrastruktury v Černé Ho
 ře
DESCRIPTION:Název akce: Informační den o projektech dopravní infrastruk
 tury v Černé Hoře\nURL: https://www.spcr.cz/informacni-den-o-projektech
 -dopravni-infrastruktury-v-cerne-hore\nPopis: \n\nVláda Černé Hory a Ev
 ropská komise ve spolupráci s Evropskou bankou pro obnovu a rozvoj (EBRD
 ) a Evropskou investiční bankou (EIB) vás zvou na informační den o pr
 ojektech dopravní infrastruktury v Černé Hoře. \nAkce se koná dne 28.
  ledna 2025 v hotelu Crowne Plaza v Podgorici od 9:00 do 17:00 hodin a je
 jím cílem je představit program černohorské vlády v hodnotě cca 9 
 miliard eur pro rozvoj dopravní infrastruktury a zároveň příležitost
 i pro investice a partnerství v Černé Hoře a v regionu západního Bal
 kánu.\nPředběžný program a registrační formulář pro účast na in
 formačním dni najdete níže. Registrační formulář je třeba zaslat 
 nejpozději do 22. ledna 2025 na e-mailové adresy: A240477-EX40-project@c
 owi.com\; jovana.cajkovic@wbif-ipf11.eu.\nOficiální akce je pořádána 
 s podporou společnosti Congress Travel\, která zájemcům poskytne infor
 mace o ubytování a logistice. Kontaktovat je můžete na emailové adres
 e andjela.trajkovic@congresstravel.me.\n250114_2nd_INVITATION_letter_to_em
 bassies.pdf\n250114_prefinal_Agenda_and_registration_form.pdf\nRegistratio
 n_form.pdf\nPractical_information_for_Info_Day.pdf\n
URL:https://www.spcr.cz/informacni-den-o-projektech-dopravni-infrastruktury
 -v-cerne-hore
DTSTART:20250128T090000
DTEND:20250128T170000
LOCATION:
END:VEVENT
END:VCALENDAR
