BEGIN:VCALENDAR
PRODID:-//eluceo/ical//2.0/EN
VERSION:2.0
CALSCALE:GREGORIAN
BEGIN:VEVENT
UID:45334832dbba964ccf16e5c2e4e4e8f4
DTSTAMP:20260423T192845Z
SUMMARY:Novinky v DPH v roce 2025 
DESCRIPTION:Název akce: Novinky v DPH v roce 2025 \nURL: https://www.spcr.
 cz/novinky-v-dph-v-roce-2025\nPopis: \n\nZveme vás na seminář k aktuali
 tám v oblasti DPH v letošním roce.\nČlenové SP ČR mají slevu.\n\nPo
 drobný program a registrace zde\n\nKontaktní osoba: Ing. Naďa Vojtíšk
 ová\, regionální manažerka pro Liberecký a Královéhradecký kraj\, 
 733 643 520\, nvojtiskova@spcr.cz.\n
URL:https://www.spcr.cz/novinky-v-dph-v-roce-2025
DTSTART:20250129T100000
DTEND:20250129T130000
LOCATION:
END:VEVENT
END:VCALENDAR
