BEGIN:VCALENDAR
PRODID:-//eluceo/ical//2.0/EN
VERSION:2.0
CALSCALE:GREGORIAN
BEGIN:VEVENT
UID:3c039b9b3c6ea5c08772892b7573f07a
DTSTAMP:20260423T163130Z
SUMMARY:TOURISM & TRAVEL SHOW ALBANIA 2025
DESCRIPTION:Název akce: TOURISM & TRAVEL SHOW ALBANIA 2025\nURL: https://w
 ww.spcr.cz/tourism-travel-show-albania-2025\nPopis: \n\nRádi bychom Vás 
 pozvali na třetí ročník veletrhu cestovního ruchu a turistiky TOURISM
  & TRAVEL SHOW ALBANIA 2025\, který se bude konat ve dnech 12.-13. února
  2025 v Kongresovém paláci v Tiraně.Tato dynamická dvoudenní akce je 
 hlavní B2B a B2C platformou pro odvětví cestovního ruchu\, která spoj
 uje klíčové zúčastněné strany z Albánie\, západního Balkánu a m
 ezinárodních trhů.Více informací najdete zde.\n
URL:https://www.spcr.cz/tourism-travel-show-albania-2025
DTSTART:20250212T000000
DTEND:20250213T235900
LOCATION:
END:VEVENT
END:VCALENDAR
