BEGIN:VCALENDAR
PRODID:-//eluceo/ical//2.0/EN
VERSION:2.0
CALSCALE:GREGORIAN
BEGIN:VEVENT
UID:b1e023cd026ebd22b5865c61ec02acba
DTSTAMP:20260423T125849Z
SUMMARY:Diskusní fórum: Zaměstnávání cizinců II
DESCRIPTION:Název akce: Diskusní fórum: Zaměstnávání cizinců II\nUR
 L: https://www.spcr.cz/diskusni-forum-zamestnavani-cizincu-ii\nPopis: \n\n
 Program a registrace ke staženíKontaktní osoba: Ing. Radka Bartiková\,
  regionální manažerka pro Ústecký a Karlovarský kraj\, 731 411 179\,
  rbartikova@spcr.cz.\n
URL:https://www.spcr.cz/diskusni-forum-zamestnavani-cizincu-ii
DTSTART:20250129T100000
DTEND:20250129T130000
LOCATION:
END:VEVENT
END:VCALENDAR
