BEGIN:VCALENDAR
PRODID:-//eluceo/ical//2.0/EN
VERSION:2.0
CALSCALE:GREGORIAN
BEGIN:VEVENT
UID:a88bca49a2a1784173db1e3edaed9483
DTSTAMP:20260423T162802Z
SUMMARY:Investiční seminář pro firmy zvažující investici v USA
DESCRIPTION:Název akce: Investiční seminář pro firmy zvažující inve
 stici v USA\nURL: https://www.spcr.cz/investicni-seminar-pro-firmy-zvazuji
 ci-investici-v-usa\nPopis: \n\nVe čtvrtek 13.března 2025 pořádá obcho
 dní oddělení Velvyslanectví USA investiční seminář “SelectUSA In
 vestment Seminar” v rámci vládního programu SelectUSA na podporu a us
 nadnění investic v USA. Event je zaměřen na společnosti\, které reá
 lně zvažují v horizontu 2-3 investici v USA. V následujícím odkaze 
 je možnost se v případě zájmu zaregistrovat SelectUSA Investment Semi
 narOtázky směřujte na kontakt níže:Vilem Fuksa\, Commercial Assistant
 Consumer Goods\, Design & Construction\, Media & EntertainmentSecurity & S
 afety\, Textiles & Apparel\, Sporting goods\, SelectUSA ProgramU.S Commerc
 ial Service (U.S. Department of Commerce)U.S. Embassy | Trziste 15 | Pragu
 e | 11801 |Czech RepublicTel: (+420) 257 022 315|Cell: (+420) 724 115 924E
 mail: Vilem.Fuksa@trade.gov I www.trade.gov/selectusa\n
URL:https://www.spcr.cz/investicni-seminar-pro-firmy-zvazujici-investici-v-
 usa
DTSTART:20250313T090000
DTEND:20250313T163000
LOCATION:Ministerstvo zahraničních věcí České republiky\, Loretánsk
 é náměstí\, Praha 1 - Hradčany
END:VEVENT
END:VCALENDAR
