BEGIN:VCALENDAR
PRODID:-//eluceo/ical//2.0/EN
VERSION:2.0
CALSCALE:GREGORIAN
BEGIN:VEVENT
UID:c1ea784e0f312380d8719cd8005e9a58
DTSTAMP:20260423T173453Z
SUMMARY:Česko-vietnamské podnikatelské fórum
DESCRIPTION:Název akce: Česko-vietnamské podnikatelské fórum\nURL: htt
 ps://www.spcr.cz/cesko-vietnamske-podnikatelske-forum-1\nPopis: \n\nRádi 
 bychom Vás pozvali na Česko-vietnamské obchodní fórum\, které se b
 ude konat při příležitosti návštěvy vietnamského premiéra H.E. Ph
 ạma Minh Chínha a významných zástupců vietnamského businessu. Př
 ipravované business fórum se bude konat 20. 1. 2025 od 9:00 hod. v p
 rostorách Marriott Prague Hotel (V Celnici 8\, 110 00 Praha).\n Prioritn
 ími sektory tohoto setkání jsou farmaceutický průmysl\, investice\, t
 ech-manufacturing\, chemický průmysl\, přírodní zdroje\, zemědělsk
 á technika\, energetický a petrochemický průmysl.\nV případě zájmu
  vás prosíme registrovat (do 16. 1.) se přes registrační link: regis
 trace na Česko-vietnamské business fórum\nPro více informací kontaktu
 jte manažera Sekce vnějších vztahů Martina Natafalušiho (email: mna
 tafalusi@spcr.cz\, tel. 733 643 556).\nVíce o Vietnamu a obchodních př
 íležitostech v této zemi najdete pod odkazem níže:\nVietnam - Busine
 ssinfo\n
URL:https://www.spcr.cz/cesko-vietnamske-podnikatelske-forum-1
DTSTART:20250120T090000
DTEND:20250120T110000
LOCATION:
END:VEVENT
END:VCALENDAR
