BEGIN:VCALENDAR
PRODID:-//eluceo/ical//2.0/EN
VERSION:2.0
CALSCALE:GREGORIAN
BEGIN:VEVENT
UID:0634bd72a7fc7336160c067e580a893d
DTSTAMP:20260423T163252Z
SUMMARY:TaiSPO 2025
DESCRIPTION:Název akce: TaiSPO 2025\nURL: https://www.spcr.cz/taispo-2025\
 nPopis: \n\nJménem Tchajpejské hospodářské a kulturní kanceláře v 
 Praze si Vás dovolujeme pozvat na mezinárodní veletrh TaiSPO 2025\, jed
 en z nejvýznamnějších asijských veletrhů sportovního zboží\, kter
 ý se bude konat v Taipei Nangang Exhibition Center od 26. března do 29. 
 března 2025.Organizace TaiSPO\, která slaví 50. výročí svého založ
 ení\, podporuje interakci mezi jednotlivými odvětvími a průzkum trhu 
 v oblasti sportu\, fitness a venkovních volnočasových aktivit. Téma ve
 letrhu 2025 „Stay Fit\, Stay Well“ zdůrazňuje celkový blahobyt.Aktu
 ální informace naleznete na oficiálních webových stránkách: https:/
 /www.taispo.com.tw/en/index.html .Na podporu účasti na tomto veletrhu na
 bízíme následující pobídkové balíčky. Upozorňujeme\, že nabídk
 y platí do vyčerpání finančního rozpočtu a balíčky jsou poskytov
 ány podle pořadí přijetí přihlášky.Pro registraci a podání pobí
 dkové přihlášky vyplňte prosím přiložený formulář "company prof
 ile" a zašlete jej na emailovou adresu czech@sa.moea.gov.tw nebo cztwec01
 @sa.moea.org.tw.\n
URL:https://www.spcr.cz/taispo-2025
DTSTART:20250326T000000
DTEND:20250329T235900
LOCATION:
END:VEVENT
END:VCALENDAR
