BEGIN:VCALENDAR
PRODID:-//eluceo/ical//2.0/EN
VERSION:2.0
CALSCALE:GREGORIAN
BEGIN:VEVENT
UID:a5512c8e12e56bec446fdd2058af9f77
DTSTAMP:20260421T065433Z
SUMMARY:2025 TAIPEI AMPA a AUTOTRONICS TAIPEI
DESCRIPTION:Název akce: 2025 TAIPEI AMPA a AUTOTRONICS TAIPEI\nURL: https:
 //www.spcr.cz/2025-taipei-ampa-autotronics-taipei\nPopis: \n\nJménem Tcha
 jpejské hospodářské a kulturní kanceláře v Praze si Vás dovoluejem
 e pozvat na mezinárodní veletrh 2025 TAIPEI AMPA (Automobile & Motorcycl
 e Parts & Accessories) a AUTOTRONICS TAIPEI (Automobile Electronics Show)\
 , druhý největší automobilový B2B veletrh v Asii\, který představí
  nejnovější trendy v oblasti 360° mobility – trh s náhradními díl
 y pro automobily\, motocykly a elektromobily.Veletrh se bude konat v Taipe
 i Nangang Exhibition Center od 23. do 26. dubna 2025. Letos se na veletrhu
  TAIPEI AMPA a AUTOTRONICS TAIPEI představí celý dodavatelský řetěze
 c automobilového průmyslu.Aktuální informace naleznete na oficiálníc
 h webových stránkách: https://www.taipeiampa.com.tw/en/index.html .Na p
 odporu účasti na tomto veletrhu nabízíme následující pobídkové ba
 líčky: - AMPA balíček (formulář žádosti) - AUTOTRONICS balíček 
 (formulář žádosti)Upozorňujeme\, že nabídky platí do vyčerpání 
 finančního rozpočtu a balíčky jsou poskytovány podle pořadí přije
 tí přihlášky. Pro registraci a podání pobídkové přihlášky vypl
 ňte prosím přiložený formulář "company profile" a zašlete jej na e
 mailovou adresu czech@sa.moea.gov.tw nebo cztwec01@sa.moea.org.tw .\n
URL:https://www.spcr.cz/2025-taipei-ampa-autotronics-taipei
DTSTART:20250423T000000
DTEND:20250426T235900
LOCATION:
END:VEVENT
END:VCALENDAR
