BEGIN:VCALENDAR
PRODID:-//eluceo/ical//2.0/EN
VERSION:2.0
CALSCALE:GREGORIAN
BEGIN:VEVENT
UID:f3dd1363426181500d9b72a44d827d20
DTSTAMP:20260423T162622Z
SUMMARY:Výzvy a příležitosti českého byznysu - Kam (do)kráčíme v r
 oce 2025?
DESCRIPTION:Název akce: Výzvy a příležitosti českého byznysu - Kam (
 do)kráčíme v roce 2025?\nURL: https://www.spcr.cz/vyzvy-prilezitosti-ce
 skeho-byznysu-kam-dokracime-v-roce-2025\nPopis: \n\nNa které priority by 
 se měl český byznys v roce 2025 zaměřit\, aby obstál v konkurenční
 m boji? Jak mu bude hrát do karet makroekonomický vývoj? A co geopoliti
 cká situace? Jaké kroky budou zásadní pro obnovení evropské prosperi
 ty? Proč je v Evropě potřeba důsledný legislativní detox i realistic
 ké energeticko-klimatické cíle? Přijďte diskutovat na event\, který 
 pořádáme ve spolupráci se Svazem průmyslu.Evropa zaostává ekonomick
 y i technologicky. Míra a složitost byrokratické zátěže firmám brá
 ní inovovat a investovat do rozvoje a nových technologií. Potřebujeme 
 diskuzi o konkrétních krocích na obranu konkurenceschopnosti a prosperi
 ty. Které to jsou? Zásadní bude dohoda o evropském průmyslu\, důsled
 ný legislativní detox\, odvážné investice do aplikovaného výzkumu\,
  inovací a klíčových technologií\, realistické energeticko-klimatick
 é cíle a v neposlední řadě i modernizace evropské dopravní politiky
 . Cílem panelové diskuze „Výzvy a příležitosti českého byznysu
 “ je pojmenovat aktuální situaci a nabídnout několik úhlů pohledu:
  makroekonomický\, byznysový i proexportní.Registrujte se zde. Účast 
 je zdarma ale kapacita je omezená.Harmonogram:09:30 – 10:00 Registrace1
 0:00 – 12:00 Panelová diskuseŘečníci:Jan Rafaj\, prezident Svazu pr
 ůmysluDavid Marek\, hlavní ekonom DeloitteRadek Špicar\, viceprezident 
 Svazu průmysluTomáš Kolář\, CEO LinetTémata:Makroekonomický výhled
  pro rok 2025Priority českého byznysu v EURevize stávajících polit
 ik EU s cílem udržet globální konkurenceschopnost EvropyProexportn
 í politika a geopolitický kontextZapojení soukromého sektoru do projek
 tu Global Gateway\n
URL:https://www.spcr.cz/vyzvy-prilezitosti-ceskeho-byznysu-kam-dokracime-v-
 roce-2025
DTSTART:20250115T100000
DTEND:20250115T120000
LOCATION:
END:VEVENT
END:VCALENDAR
