BEGIN:VCALENDAR
PRODID:-//eluceo/ical//2.0/EN
VERSION:2.0
CALSCALE:GREGORIAN
BEGIN:VEVENT
UID:6b56650a2a1c65506077da40ca6417b3
DTSTAMP:20260423T125843Z
SUMMARY:EU-based businesses: Leveraging private investments for Ukraine
DESCRIPTION:Název akce: EU-based businesses: Leveraging private investment
 s for Ukraine\nURL: https://www.spcr.cz/eu-based-businesses-leveraging-pri
 vate-investments-ukraine\nPopis: \n\nDear Sir\, dear Madam\,\nWe are pleas
 ed to invite you to our upcoming Information Session on the “Call for Ex
 pressions of Interest from the EU-based businesses: Leveraging private inv
 estments for Ukraine’s recovery”.\nJoin us on Tuesday\, 17 December\
 , 10.00 – 13.00 in the L42 Center\, Rue de la Loi 42 in Brussels or o
 nline.\n \nDuring the event we will provide you with everything you need 
 to know about our new Call for Expressions of Interest aiming at mobilisin
 g private EU investment in critical areas to support Ukraine’s rebuildin
 g efforts. Under the Call\, EU businesses\, including joint ventures\, or 
 consortia involving both EU and Ukrainian companies\, are invited to subm
 it project proposals for new investments into Ukraine’s real economy. Pr
 oposals will be reviewed and connected to the best suited investment proje
 cts funded under the Ukraine Investment Framework\, which is an integral p
 illar under the EU’s €50 billion Ukraine Facility. We will also discus
 s topics such as Ukraine’s priorities for private sector involvement in 
 recovery and reconstruction and we will outline investment programmes unde
 r the Ukraine Investment Framework relevant for this Call.\nThe agenda of
  the event can be found in the attachment of this email. The target aud
 ience for this Information Session are business associations\, business s
 upport organisations as well as trade and investment promotion agencies fr
 om the EU and Ukraine representing private sector interested to invest int
 o Ukraine’s recovery and reconstruction.\nTo register\, please reply to 
 this email by 10 December stating your name\, organisation and whether 
 you will attend the event online or in person.\nWe are looking forward to 
 welcoming you at our event!\nBest regards\,\nNEAR.E.1\n
URL:https://www.spcr.cz/eu-based-businesses-leveraging-private-investments-
 ukraine
DTSTART:20241217T100000
DTEND:20241217T130000
LOCATION:
END:VEVENT
END:VCALENDAR
