BEGIN:VCALENDAR
PRODID:-//eluceo/ical//2.0/EN
VERSION:2.0
CALSCALE:GREGORIAN
BEGIN:VEVENT
UID:6339bdb756c53e409f14284aba7f5d8f
DTSTAMP:20260423T145913Z
SUMMARY:Webinář: Expanze do SAE - Free zóna DMCC\, zkušenosti a tipy na
  úspěšný start
DESCRIPTION:Název akce: Webinář: Expanze do SAE - Free zóna DMCC\, zku
 šenosti a tipy na úspěšný start\nURL: https://www.spcr.cz/webinar-exp
 anze-do-sae-free-zona-dmcc-zkusenosti-tipy-na-uspesny-start\nPopis: \n\nCz
 echTrade vás zve na seminář\, který vás provede klíčovými aspekty 
 podnikání ve Spojených arabských emirátech (SAE)\, jednom z nejdynami
 čtějších regionů světa. SAE jsou nejen strategickou bránou na trhy 
 zemí Rady pro spolupráci arabských států v Zálivu (GCC)\, ale také 
 místem\, kde české firmy nejen exportují\, ale stále častěji zaklá
 dají svá zastoupení.V první části semináře se dozvíte\, jaké jso
 u specifika místního trhu\, jak funguje obchodní prostředí SAE a na c
 o se připravit při vstupu na tento perspektivní trh. Poskytneme vám pr
 aktické tipy\, jak založit zastoupení\, čemu se vyhnout a co usnadní 
 váš úspěch v tomto teritoriu. Ve druhé části vás seznámíme s fr
 ee zónou DMCC\, jednou z nejvýznamnějších svobodných zón v SAE\, kd
 e CzechTrade spolupracuje s českými firmami. Probereme výhody podnikán
 í v této zóně a proces jejího využití. Třetí část semináře b
 ude věnována konkrétním zkušenostem České mincovny\, která úspě
 šně působí v regionu GCC. Budete mít příležitost se inspirovat re
 álnými příběhy a získat praktická doporučení\, jak se prosadit na
  trhu Blízkého východu. Na závěr bude prostor pro vaše dotazy a dis
 kuzi. \nAkce proběhne v českém a anglickém jazyce za přítomnosti za
 hraničního přednášejícího Bassela Bitara. Přijďte si pro užite
 čné informace a podpořte svůj obchodní úspěch v SAE!\nOBSAH SEMINÁ
 ŘE:\n\nPředstavení teritoria\, jednotlivých emirátů a makroekonomick
 ých dat\nČeský export do SAE v oborech a číslech\nKulturní specifik
 a s obchodováním s lokálním partnerem\nZáklady k zakládání ent
 it v SAE \nPředstavení free zóny DMCC a pobídek pro zahraniční spo
 lečnosti\nOsobní zkušenosti s fyzickým působením na SAE trhu\n\n \
 nPřednášející:Vladislav Polách\, ředitel regionálního centra a z
 ahraniční kanceláře CzechTrade Spojené arabské emirátyBassel Bitar\
 , regionální zástupce  pro Asii a východní Evropu | DMCCJitka Stub
 bington\, oblastní manažerka CZ Mint Middle East\nVíce informací o ak
 ci a registraci naleznete zde. \n
URL:https://www.spcr.cz/webinar-expanze-do-sae-free-zona-dmcc-zkusenosti-ti
 py-na-uspesny-start
DTSTART:20250127T100000
DTEND:20250127T113000
LOCATION:
END:VEVENT
END:VCALENDAR
