BEGIN:VCALENDAR
PRODID:-//eluceo/ical//2.0/EN
VERSION:2.0
CALSCALE:GREGORIAN
BEGIN:VEVENT
UID:c88eb34adf7796583ce9d925f0b9d16f
DTSTAMP:20260423T130819Z
SUMMARY:Webinář: Nizozemsko - Klíčové faktory pro úspěšné partners
 tví ve strojírenském průmyslu
DESCRIPTION:Název akce: Webinář: Nizozemsko - Klíčové faktory pro ús
 pěšné partnerství ve strojírenském průmyslu\nURL: https://www.spcr.
 cz/webinar-nizozemsko-klicove-faktory-pro-uspesne-partnerstvi-ve-strojiren
 skem-prumyslu\nPopis: \n\nCzechTrade vás zve na seminář\, který se zam
 ěří na budování a udržení úspěšných obchodních vztahů s glob
 álními strojírenskými firmami – oblast\, která hraje klíčovou rol
 i při expanzi na zahraniční trhy a posilování konkurenceschopnosti č
 eských podniků. Během semináře se pod vedením našeho odborného ho
 sta zaměříme na hlavní aspekty\, které jsou klíčové pro úspěch: 
 od pravidel efektivní komunikace\, přes kritéria výběru dodavatelů z
  pohledu nákupčího v nadnárodní společnosti\, až po proces vyjedná
 vání a praktické tipy pro úspěšnou prezentaci vaší firmy. Zvlášt
 ní důraz bude kladen na potenciální výzvy a konkrétní strategie pro
  navázání dlouhodobých a stabilních dodavatelsko-odběratelských vzt
 ahů.\nSeminář proběhne částečně v angličtině a poskytne českým
  podnikům cenné poznatky\, které jim pomohou lépe se orientovat v pož
 adavcích globálního strojírenského trhu a efektivně využít příle
 žitostí nejen na nizozemském trhu\, ale i v širším mezinárodním ko
 ntextu. Po prezentacích bude prostor pro vaše písemné dotazy.\nOBSAH 
 SEMINÁŘE:\nStručné informace o Nizozemsku - Martina Paříková\n\nObe
 cný přehled o nizozemském trhu se zaměřením na strojírenství\nPř
 ehled aktivit\, které zahraniční kancelář CzechTrade Benelux připrav
 uje na rok 2025\n\nAktuální situace a trendy ve strojírenství z pohle
 du CzechTrade - Miroslav Manďák\n\nStručný přehled o strojírenském
  průmyslu v České republice\nBest practice \n\nKlíčové body pro nav
 ázání dlouhodobých vztahů s potenciálními globálními/nadnárodní
 mi společnostmi ve strojírenském průmyslu - René Keet\n\nKlíčové a
 spekty efektivní komunikace s globálními/nadnárodními společnostmi\n
  Hlavní kritéria používaná pro výběr dodavatelů\nProces vyjednáv
 ání mezi dodavateli a mezinárodními klienty \, včetně  potenciáln
 ích úskalí a tipů pro přípravu na jednání \nPodmínky úspěchu 
 při navazování dlouhodobých vztahů s potenciálními klíčovými kli
 enty\nJak se připravit na návštěvu zástupce nákupu\n\nPřednášejí
 cí:\nMartina Paříková\, Ředitelka zahraniční kanceláře CzechTrade
  BeneluxMiroslav Manďák\, Exportní konzultant v oboru strojírenství\,
  CzechTradeRené Keet\, Senior Buyer – Purchasing & Inventory\, Parts &
  Accessories Division v Yamaha-motor EU\nVíce informací a registrace k d
 ispozici zde. \n
URL:https://www.spcr.cz/webinar-nizozemsko-klicove-faktory-pro-uspesne-part
 nerstvi-ve-strojirenskem-prumyslu
DTSTART:20250124T100000
DTEND:20250124T113000
LOCATION:
END:VEVENT
END:VCALENDAR
