BEGIN:VCALENDAR
PRODID:-//eluceo/ical//2.0/EN
VERSION:2.0
CALSCALE:GREGORIAN
BEGIN:VEVENT
UID:8dcc98ed1b96a96853b30b0f3b286aa1
DTSTAMP:20260423T125849Z
SUMMARY:Webinář: INCOTERMS 2020 – Praktické aplikace a příklady
DESCRIPTION:Název akce: Webinář: INCOTERMS 2020 – Praktické aplikace 
 a příklady\nURL: https://www.spcr.cz/webinar-incoterms-2020-prakticke-ap
 likace-priklady\nPopis: \n\nPojďte s námi objevit\, jak pravidla INCOTER
 MS® zjednodušují mezinárodní obchod. Tato osvědčená pravidla\, vyu
 žívaná po celém světě\, přinášejí jasnost do obchodních transak
 cí\, usnadňují výklad podmínek a podporují dobrou obchodní praxi. D
 íky své spolehlivosti a univerzálnosti se stala nezbytnou součástí k
 aždodenního obchodování a jedním z klíčových pilířů globálníh
 o trhu. Připojte se a zjistěte\, jak vám INCOTERMS® mohou pomoci uspě
 t v mezinárodním obchodě!\nOBSAH SEMINÁŘE:\n\nVýznam Pravidel INCOTE
 RMS pro mezinárodní obchod\, trendy a jejich promítnutí do vývoje pra
 videl\nPostavení pravidla v kupní smlouvě\, vztah zvoleného pravidla k
  dalším náležitostem kupní smlouvy\nCelní a daňové konotace pravid
 el\nINCOTERMS 2020 – rozdíly oproti INCOTERMS 2010\nVývoj pravidel od 
 roku 1934\, obecné zásady revize INCOTERMS 2020\nJednotlivá Pravidla IN
 COTERMS 2020 podrobněji\nDiskuse\, dotazy\n\nPřednášející:Dr. Petr R
 ožek\, specialista na pravidla Incoterms při nejrůznějších institu
 cích a výkonný ředitel Svazu spedice a logistiky ČR\nVíce informac
 í a registrace zde. \n
URL:https://www.spcr.cz/webinar-incoterms-2020-prakticke-aplikace-priklady
DTSTART:20250121T090000
DTEND:20250121T130000
LOCATION:
END:VEVENT
END:VCALENDAR
