BEGIN:VCALENDAR
PRODID:-//eluceo/ical//2.0/EN
VERSION:2.0
CALSCALE:GREGORIAN
BEGIN:VEVENT
UID:3396a28b286c749b6bc8d41b7d26ab53
DTSTAMP:20260423T150340Z
SUMMARY:Webinář: Udržitelnost jako klíč k úspěchu na nordických trz
 ích
DESCRIPTION:Název akce: Webinář: Udržitelnost jako klíč k úspěchu n
 a nordických trzích\nURL: https://www.spcr.cz/webinar-udrzitelnost-jako-
 klic-k-uspechu-na-nordickych-trzich\nPopis: \n\nCzechTrade vás zve na sem
 inář\, který se zaměří na udržitelnost v nordickém regionu – obl
 ast\, která není pouze aktuálním trendem\, ale rovněž zásadně mě
 ní pravidla podnikání. Severské země patří mezi světové lídry v 
 udržitelnosti a jejich přísné legislativní požadavky často překon
 ávají standardy EU i dalších světových trhů. Během semináře se s
 eznámíte s aktuálními příležitostmi na těchto trzích\, plánovan
 ými projekty a klíčovými legislativními požadavky v oblasti udržite
 lnosti. Společně probereme současné normy\, připravované změny a ko
 nkrétní kroky\, jak může vaše firma na tyto výzvy efektivně reagova
 t. \nOBSAH SEMINÁŘE:\n1.BLOK: Aktuální příležitosti na severskýc
 h trzích\n\nNordický region – obecné informace\nAktuální příleži
 tosti na severských trzích\nPlánované prezentace českých firem: vele
 trhy\, podnikatelské mise\nSpecifika navazování obchodní spolupráce\n
 Dotazy\n\n2. BLOK: Udržitelnost\, aktuální požadavky a vývoj v regi
 onu\n\nProč se stává udržitelnost klíčovým aspektem v obchodování
 \nAktuální předpisy v oblasti udržitelnosti\nCo znamená přechod k ci
 rkulární ekonomice\nJak správně komunikovat o vašich udržitelných a
 ktivitách\nShrnutí a tipy navíc\n\nPřednášející:\nBc. Petra Jindro
 vá - ředitelka zahraniční kanceláře CzechTrade SkandinávieIng. Ver
 onika Bergljung\, MBA - odbornice na udržitelnost a ESG\nVíce informac
 í a registrace na akci zde. \n
URL:https://www.spcr.cz/webinar-udrzitelnost-jako-klic-k-uspechu-na-nordick
 ych-trzich
DTSTART:20250115T100100
DTEND:20250115T113000
LOCATION:
END:VEVENT
END:VCALENDAR
