BEGIN:VCALENDAR
PRODID:-//eluceo/ical//2.0/EN
VERSION:2.0
CALSCALE:GREGORIAN
BEGIN:VEVENT
UID:dfcfd1c75b93b1ded82aba64d29c529c
DTSTAMP:20260423T163303Z
SUMMARY:Access2Markets Live Training Seminar
DESCRIPTION:Název akce: Access2Markets Live Training Seminar\nURL: https:/
 /www.spcr.cz/access2markets-live-training-seminar-1\nPopis: \n\nA live tra
 ining with an in-depth explanation of the Access2Markets platform with a l
 ive training on how to use its different import and export sections\, how 
 to access the list of identified trade barriers\, an overview of how to co
 ntact the Single Entry Point for trade barriers\, trade statistics\, Rules
  of Origin Self-Assessment tool (ROSA)\, My Trade Assistant for Procuremen
 t\, MyTradeAssistant for Services and Investment\, the Trade Defense Instr
 uments (TDI) SME Helpdesk and a live Q&A session.\n\n\n\nRegistration link
  here. \n
URL:https://www.spcr.cz/access2markets-live-training-seminar-1
DTSTART:20241210T100000
DTEND:20241210T123000
LOCATION:
END:VEVENT
END:VCALENDAR
