BEGIN:VCALENDAR
PRODID:-//eluceo/ical//2.0/EN
VERSION:2.0
CALSCALE:GREGORIAN
BEGIN:VEVENT
UID:90dcb46a02b49f4d77d7de77607ea9d0
DTSTAMP:20260423T163130Z
SUMMARY:Uganda EU-Business Insights Conference
DESCRIPTION:Název akce: Uganda EU-Business Insights Conference\nURL: https
 ://www.spcr.cz/uganda-eu-business-insights-conference\nPopis: \n\nThe EU D
 elegation in Uganda will introduce the upcoming Uganda-EU Business Insight
 s Conference scheduled to take place in Kampala on 13 February 2025. Th
 is Conference will focus on two key sectors of strategic importance:Agricu
 ltural Technology: Innovative technologies\, tools\, and practices designe
 d to enhance productivity\, efficiency\, sustainability\, and profitabilit
 y in agriculture. These solutions across the agricultural value chain have
  the potential to leverage Uganda’s significant agricultural capital bas
 ed on its highly fertile ground.Mining: Highlighting the significant inve
 stment potential in Uganda’s mining sector and showcasing opportunities 
 for collaboration and sustainable development.   You can participate by
  clicking on this LINK For further information\, please contact info@eu
 -africabusinessforum.eu       Complete invitation is available to d
 ownload here. \n
URL:https://www.spcr.cz/uganda-eu-business-insights-conference
DTSTART:20241204T110000
DTEND:20241204T123000
LOCATION:
END:VEVENT
END:VCALENDAR
