BEGIN:VCALENDAR
PRODID:-//eluceo/ical//2.0/EN
VERSION:2.0
CALSCALE:GREGORIAN
BEGIN:VEVENT
UID:1cb30836cca7eaa38fc2331e8603cf7f
DTSTAMP:20260423T094839Z
SUMMARY:Online seminář: AI pro úspěšné obchodní jednání
DESCRIPTION:Název akce: Online seminář: AI pro úspěšné obchodní jed
 nání\nURL: https://www.spcr.cz/online-seminar-ai-pro-uspesne-obchodni-je
 dnani\nPopis: \n\nOnline seminář: AI pro úspěšné obchodní jednání
 \n\n\nCzechTrade Vás zve na online odborný seminář zaměřený na upla
 tnění AI. Úspěšné obchodní jednání vyžaduje v dnešní době nej
 en strategii\, ale i správné AI nástroje. Jak může umělá inteligenc
 e pomoci při přípravě\, průběhu i vyhodnocení obchodních jednání
 ? Tento seminář účastníkům poskytne konkrétní postupy a nástroje\
 , které umožní efektivně analyzovat data\, předvídat reakce partner
 ů\, tlumočit a přizpůsobit komunikaci pro dosažení co nejlepších v
 ýsledků. Zaměříme se na to\, jak lze AI využít pro řadu aktivit od
  právních analýz po přípravu prezentací. Díky praktickým ukázká
 m a doporučením od pana Benzla a Jiříčka se účastníci dozví\, ja
 k AI integrovat do obchodního procesu a dosáhnout vyšší efektivity a 
 úspěchu při jednáních.\n\nOBSAH WEBINÁŘE\n\nPříprava na jednání
  s využitím AI\nJak AI pomáhá analyzovat data o trendech a cizích trz
 ích\nJak s AI přizpůsobit prezentace a materiály pro lepší oslovení
  obchodních partnerů\nAI jako tlumočník - Jaroslav Jiříček\, AiLuv
 io Ltd.\nAI pro analýzu dokumentů včetně právních\nVyužití umělé
  inteligence pro rychlejší a informovanější rozhodnutí\n\nPŘEDNÁŠ
 EJÍCÍ:\nLukáš Benzl\, Ředitel České asociace umělé inteligenceJa
 roslav Jiříček\, CEO AiLuvio Ltd.\nVíce informací a registrace zde.
  \n
URL:https://www.spcr.cz/online-seminar-ai-pro-uspesne-obchodni-jednani
DTSTART:20241212T100000
DTEND:20241212T113000
LOCATION:
END:VEVENT
END:VCALENDAR
