BEGIN:VCALENDAR
PRODID:-//eluceo/ical//2.0/EN
VERSION:2.0
CALSCALE:GREGORIAN
BEGIN:VEVENT
UID:e315bc01c14ed2950f592ab0713a2857
DTSTAMP:20260423T213443Z
SUMMARY:Aktuální exportní příležitosti v Bulharsku a Rumunsku
DESCRIPTION:Název akce: Aktuální exportní příležitosti v Bulharsku a
  Rumunsku\nURL: https://www.spcr.cz/aktualni-exportni-prilezitosti-v-bulha
 rsku-rumunsku\nPopis: \n\nAktuální exportní příležitosti v Bulharsku
  a Rumunsku\n\nV rámci teritoriálního semináře se dozvíte základní
  informace z dění na bulharském a rumunském trhu. Během semináře bu
 dou za obě země představeny aktuální příležitosti pro české výr
 obce a dodavatele v oborech stavební průmysl\, strojírenská výroba\,
  zemědělství a potravinářský průmysl\, dopravní technika a ICT. Do
 zvíte se důležité předpoklady pro úspěšný vstup na místní trhy 
 a přehled možné podpory CzechTrade při vyhledání a oslovení místn
 ích obchodních partnerů. Součástí prezentace bude nabídka připravo
 vaných projektů CzechTrade (veletrhů\, produktových misí) v roce 202
 5. Na semináři vystoupí zkušení manažeři\, kteří se podělí o p
 říklady dobré i špatné praxe z obchodování v těchto zemích. Neb
 udou chybět ani základní rady a doporučení právního a daňového o
 šetření obchodních případů ve styku s místními firmami. Na záv
 ěr se budete moci přednášejících zeptat na konkrétní dotazy.\nPo s
 končení prezentační části proběhnou od 11.30 hod bezplatné individ
 uální konzultace ředitelů zahraničních kanceláří CzechTrade Bulha
 rsko a Rumunsko s účastníky semináře.\nOBSAH SEMINÁŘE:\n\nAktuáln
 í situace na bulharském a rumunském trhu (základní ekonomické údaje
 )\nPerspektivní obory a zajímavé projekty pro české exportéry v roce
  2025\nPřehled oborových veletrhů s účastí CzechTrade (podmínky ú
 časti ad.)\nDoporučené kroky exportérům při vstupu na místní trh\n
 Zkušenosti z působení české firmy v teritoriu\nPrávní a daňové a
 spekty podnikání\nDotazy\, diskuze s vystupujícími\nINDIVIDUÁLNÍ KON
 ZULTACE\n\nPřednášející:\nMichal Holub\, Ředitel zahraniční kancel
 áře CzechTrade BulharskoVojtěch Rejmíš\, Ředitel zahraniční kancel
 áře CzechTrade RumunskoJiří Mazurek\, Konzultant v oblasti dopravní 
 techniky – RumunskoPetar P. Stanchev\, Jednatel společnosti Aplis Onlin
 e s.r.o. - BulharskoPatricie Čalová\, Senior Associate\, PETERKA & PARTN
 ERS advokátní kancelář s.r.o. - BulharskoGabriela Hájková\, Partner 
 Leader of Corporate\, PETERKA & PARTNERS advokátní kancelář s.r.o. - R
 umunsko\nVíce informací a registrace zde. \n
URL:https://www.spcr.cz/aktualni-exportni-prilezitosti-v-bulharsku-rumunsku
DTSTART:20241205T093000
DTEND:20241205T130000
LOCATION:
END:VEVENT
END:VCALENDAR
