BEGIN:VCALENDAR
PRODID:-//eluceo/ical//2.0/EN
VERSION:2.0
CALSCALE:GREGORIAN
BEGIN:VEVENT
UID:9f67d8dcb8db85ea5c8fe08708f8a74b
DTSTAMP:20260423T163004Z
SUMMARY: SEO pro exportéry - optimalizace webů pro vyhledávače
DESCRIPTION:Název akce:  SEO pro exportéry - optimalizace webů pro vyhle
 dávače\nURL: https://www.spcr.cz/seo-pro-exportery-optimalizace-webu-pro
 -vyhledavace\nPopis: \n\nSEO pro exportéry - optimalizace webů pro vyhle
 dávače\n\nCzechTrade vás zve na seminář zaměřený na praktické asp
 ekty optimalizace pro vyhledávače (SEO)\, díky kterému můžete zvýš
 it viditelnost svého webu a oslovit více návštěvníků. Dozvíte se\,
  jak fungují vyhledávače\, jak správně vybírat a analyzovat klíčov
 á slova\, jak tvořit zajímavý obsah přizpůsobený vyhledávačům a 
 jak efektivně budovat zpětné odkazy pro zvýšení důvěryhodnosti web
 u. Kromě toho získáte přehled strategií a nástrojů pro analýzu kon
 kurence\, díky kterým lépe uspějete na klíčová slova\, na která se
  zaměřují vaši konkurenti. Na závěr bude prostor pro dotazy a prakti
 cká doporučení\, jak svoji SEO strategii vylepšit.\nOBSAH SEMINÁŘE:\
 n \n1. Fungování vyhledávačů\n\nÚvod do vyhledávačů: Jak vyhled
 ávače fungují\, historie a vývoj.\nAlgoritmy vyhledávání: Základn
 í principy\, jak vyhledávače indexují a řadí webové stránky.\nDůl
 ežitost relevance a autority: Jak vyhledávače určují\, co je relevant
 ní a autoritativní obsah.\nPřehled hlavních vyhledávačů: Google\, S
 eznam\, Bing\, Yahoo a další.\n\n \n2. Analýza klíčových slov\n\nÚ
 vod do klíčových slov: Význam a role klíčových slov v SEO.\nNástro
 je pro výzkum klíčových slov: Google Keyword Planner\, SEMrush\, Ahref
 s\, atd.\nStrategie výběru klíčových slov: Jak vybrat správná klí
 čová slova pro váš web.\nLong-tail vs. short-tail klíčová slova: V
 ýhody a nevýhody.\n\n \n4. Obsahové SEO\n\nVytváření kvalitního ob
 sahu: Jak psát obsah\, který je zajímavý pro čtenáře a optimalizova
 ný pro vyhledávače.\nOptimalizace obsahu: Využití klíčových slov\,
  meta popisků\, nadpisů a alt textů obrázků.\nFormáty obsahu: Blogov
 é příspěvky\, videa\, infografiky\, studie případů atd.\nPravideln
 á aktualizace obsahu: Význam pravidelných aktualizací pro udržení re
 levance a autority.\n\n \n5. Linkbuilding\n\nCo je to linkbuilding a pro
 č je důležitý: Význam zpětných odkazů pro SEO.\nStrategie linkbuil
 dingu: Přirozené odkazy\, guest blogging\, vytváření obsahu hodného 
 sdílení.\nEtika a směrnice linkbuildingu: White hat vs. black hat prakt
 iky.\nMěření úspěšnosti linkbuildingu: Nástroje a metriky pro sledo
 vání zpětných odkazů.\n\n \n6. SEO analýza konkurence\n\nIdentifika
 ce vašich SEO konkurentů: Jak určit\, kdo jsou vaši skuteční online 
 konkurenti.\nAnalýza klíčových slov konkurence: Zjištění\, na jaká
  klíčová slova se vaši konkurenti zaměřují.\nAnalýza zpětných od
 kazů: Posouzení profilu zpětných odkazů vašich konkurentů.\nStrateg
 ie překonání konkurence: Jak využít zjištěné informace k vylepšen
 í vaší SEO strategie.\n\nVíce informací a registrace zde. \n
URL:https://www.spcr.cz/seo-pro-exportery-optimalizace-webu-pro-vyhledavace
DTSTART:20241203T090000
DTEND:20241203T130000
LOCATION:
END:VEVENT
END:VCALENDAR
