BEGIN:VCALENDAR
PRODID:-//eluceo/ical//2.0/EN
VERSION:2.0
CALSCALE:GREGORIAN
BEGIN:VEVENT
UID:45de25f831b05e5e298eac7a4b946caa
DTSTAMP:20260423T145913Z
SUMMARY:Podnikatelská mise na Balkán 
DESCRIPTION:Název akce: Podnikatelská mise na Balkán \nURL: https://www.
 spcr.cz/podnikatelska-mise-na-balkan\nPopis: \n\nSvaz průmyslu a dopravy 
 ČR (SP ČR) si Vás dovoluje informovat o možnosti účasti v podnikate
 lské delegaci doprovázející prezidenta České republiky Petra Pavla n
 a jeho oficiální pracovní cestě do Černé Hory\, Bosny a Hercegoviny.
  Podnikatelská mise se uskuteční v termínu 20. – 24. ledna 2025 a z
 a Svaz průmyslu a dopravy ČR ji povede viceprezidentka Kateřina Kupkov
 á.Delegace během cesty navštíví obě hlavní města – Podgoricu v 
 Černé Hoře a Sarajevo v Bosně a Hercegovině. Na programu budou podni
 katelská fóra\, B2B/B2G networking a další doprovodné programy v nav
 štívených lokalitách\, které umožní prohloubení a navázání kont
 aktů s místním podnikatelským prostředím. Účast v této podnika
 telské misi je určena pro firmy a organizace\, které již v teritoriu
  investice a aktivity mají\, nebo začínají nové konkrétní projekty
 . Prioritními sektory pro tuto podnikatelskou misi jsou doprava (infras
 truktura a dopravní prostředky)\, energetika (obnovitelné zdroje energi
 e\, regulace vodních toků\, předcházení katastrof)\, důlní a těže
 bní průmysl\, obranný a bezpečnostní průmysl. Vítáni jsou také z
 ástupci akademické sféry.Zálohová cena za účast v podnikatelské de
 legaci je 59.000\,- Kč včetně DPH pro nečleny a 50.000\,- Kč včetně
  DPH pro členy SP ČR. Obsah účastnického balíčku je rozepsán v př
 ihlášce.V případě zájmu o účast Vás prosíme o následující:Zas
 lání vyplněné\, podepsané a naskenované závazné přihlášky.Vypln
 ění elektronického registračního formuláře\, který obsahuje infor
 mace nezbytné pro Vaše uvedení v katalogu podnikatelské mise\, vyhled
 ání vhodných partnerů pro B2B networking\, ale i pro odbavení v letad
 le vládní letky či ubytování v hotelu.Zaslání skenu datové strán
 ky vašeho pasu (platnost pasu min. 6 měsíců po návratu zpět do ČR)
 Vyplnění jednoho vzorového snímku v powerpointu do společné prezen
 tace\, která může být promítána v rámci networkingových akcíZasl
 ání profilové fotografie účastníka do připraveného katalogu fire
 m (min. rozlišení 500 Kb\, 600 x 800 pixelů)Dokumenty zašlete na e-mai
 l ijavorova@spcr.cz nejpozději do 31. prosince 2024 do 18:00.Při vypl
 ňování profilu mějte prosím na paměti\, že slouží jako podklad pr
 o výběr místních firem a partnerů pro networking a také pro výrobu 
 prezentačního tištěného katalogu mise\, který budeme připravovat v
  angličtině a jehož cílem je co nejlépe druhou stranu seznámit s pr
 ofily a kontaktními údaji zúčastněných firem. Prosíme proto o co ne
 jkonkrétnější upřesnění Vašich zájmů.Další pokyny Vám sdělí
 me po obdržení Vaší závazné přihlášky a provedení elektronické 
 registrace.  Informace Vám budeme průběžně zasílat elektronickou po
 štou\, včetně zálohové faktury na účastnický poplatek pro firmy za
 řazené do podnikatelské delegace. Vzhledem k omezené kapacitě prosí
 me o včasnou registraci. Pořadatelé si vyhrazují právo odmítnout zá
 jemce o účast s ohledem na vhodnost oborového zaměření a v případ
 ě převisu poptávky nad počtem míst v letadle. Děkujeme za pochopení
 . Podnikatelskou misi organizačně zajišťuje manažerka Sekce vnějš
 ích vztahů Ivana Javorová (email: ijavorova@spcr.cz\, tel. 778 969 36
 5). V případě jakýchkoliv dotazů nás neváhejte kontaktovat.Těší
 me se na Vaši účast.  Více o navštívených teritoriích a obchodn
 ích příležitostech v nich najdete pod odkazy níže:BusinessInfo – 
 Černá HoraBusinessInfo – Bosna a Hercegovina\n
URL:https://www.spcr.cz/podnikatelska-mise-na-balkan
DTSTART:20250120T000000
DTEND:20250124T235900
LOCATION:
END:VEVENT
END:VCALENDAR
