BEGIN:VCALENDAR
PRODID:-//eluceo/ical//2.0/EN
VERSION:2.0
CALSCALE:GREGORIAN
BEGIN:VEVENT
UID:3df938d5bf81dff5c1ede46c1388311e
DTSTAMP:20260423T150132Z
SUMMARY:CETA online seminar for stakeholders
DESCRIPTION:Název akce: CETA online seminar for stakeholders\nURL: https:/
 /www.spcr.cz/ceta-online-seminar-stakeholders\nPopis: \n\nRádi bychom Vá
 s informovali o probíhajících veřejných konzultacích ke Komplexní h
 ospodářské a obchodní dohodě mezi EU a Kanadou (CETA)\, které organi
 zuje Evropská komise.\nV rámci hodnocení dohody 7 let od zahájení je
 jího prozatímního provádění\, budou v členských státech a v Kanad
 ě uspořádány on-line semináře\, na nichž budou mít podnikatelé a 
 občanská společnost možnost diskutovat o dopadu dohody CETA. Seminář
  pro ČR je naplánovaný na 27. 11. 2024 od 9:00 a registrace na něj je 
 možná pod následujícím odkazem: https://www.ceta-evaluation.eu/onlin
 eseminars.\nZpětnou vazbu k dohodě CETA mohou podnikatelé předat do 3
 0.11. také prostřednictvím formuláře\, který naleznete zde: https:/
 /www.ceta-evaluation.eu/.\n
URL:https://www.spcr.cz/ceta-online-seminar-stakeholders
DTSTART:20241127T090000
DTEND:20241127T103000
LOCATION:
END:VEVENT
END:VCALENDAR
