BEGIN:VCALENDAR
PRODID:-//eluceo/ical//2.0/EN
VERSION:2.0
CALSCALE:GREGORIAN
BEGIN:VEVENT
UID:f267ebc31a582e4905e0c284d29d2724
DTSTAMP:20260423T125212Z
SUMMARY:Seminář pro Startupy - expanze do USA
DESCRIPTION:Název akce: Seminář pro Startupy - expanze do USA\nURL: http
 s://www.spcr.cz/seminar-pro-startupy-expanze-do-usa\nPopis: \n\nRádi bych
 om Vás pozvali na odborný seminář\, který pořádá Ministersvo prům
 yslu a obchodu ČR a CzechTrade a je zaměřený na možnosti expanze do S
 pojených států\, speciálně připravený pro české startupy\, které
  chtějí expandovat na americký trh a inspirovat se úspěšnými příb
 ěhy. Seminář se koná 4. 12. 2024 od 14:30 v prostorách Ministerstva p
 růmyslu a obchodu ČR (Na Františku 32\, 11249 Praha 1\, Česká republi
 ka).\nAkci zahájí velvyslanec Spojených států amerických Bijan Sabet
  a vrchní ředitel sekce Evropské unie a zahraničního obchodu Minister
 stva průmyslu a obchodu David Müller.\nVíce informací a registrační 
 formulář najdete na tomto odkazu.\n \nPROGRAM\n14:00   Registrace\n14
 :30   Zahájení\n            Úvodní slovo velvyslance Bijana Sa
 beta a Davida Müllera\n14:45   Podnikatelské prostředí a startupov
 ý ekosystém USA\, programy podpory a akcelerace pro české startupy\n15
 :30   Přestávka na kávu\n15:45   Diskuze s úspěšnými českým
 i startupy působícími v USA\n16:30   Networking\n \n
URL:https://www.spcr.cz/seminar-pro-startupy-expanze-do-usa
DTSTART:20241204T143000
DTEND:20241204T170000
LOCATION:
END:VEVENT
END:VCALENDAR
