BEGIN:VCALENDAR
PRODID:-//eluceo/ical//2.0/EN
VERSION:2.0
CALSCALE:GREGORIAN
BEGIN:VEVENT
UID:0f6496bfee9eee050936415b3a82968a
DTSTAMP:20260423T162802Z
SUMMARY:Seminář k investičním příležitostem na Ukrajině
DESCRIPTION:Název akce: Seminář k investičním příležitostem na Ukr
 ajině\nURL: https://www.spcr.cz/seminar-k-investicnim-prilezitostem-na-uk
 rajine\nPopis: \n\nRádi bychom Vás pozvali na seminář k investičním
  příležitostem pro české firmy na Ukrajině. Seminář pořádá Vlá
 dní zmocněnec pro rekonstrukci Ukrajiny Tomáš Kopečný a proběhne 4.
  12. 2024 od 8:30 v Černínském paláci.\nNa semináři vystoupí zást
 upci Ministerstva zahraničních věcí ČR\, Národní rozvojové banky a
  dalších institucí. Také bude představen nástroj Evropské komise pr
 o Ukrajinu (UA facility) a odpovídající český program\, který admini
 struje Národní rozvojová banka a Česká rozvojová agentura. Následn
 ě budou představeny investiční programy dalších mezinárodních inst
 itucí a partnerů\, jako například Evropské banky pro obnovu a rozvoj 
 (EBRD).\nNa zástupce firem bude na akci čekat komplexní informační p
 řehled o aktuálních národních i mezinárodních investičních příl
 ežitostech a programech a také informace o důležitých kontaktních bo
 dech\, na které se v případě zájmu mohou obracet.\nSeminář cílí n
 a všechny společnosti\, které se o Ukrajinu zajímají\, konkrétně je
 jich finanční ředitele\, CEOs\, regionální ředitele\, projektové ma
 nažery či investiční specialisty.\nPodrobný program semináře najdet
 e zde.\nV případě zájmu se můžete přihlásit přes tento registra
 ční formulář.\n \nPro více informací kontaktujte manažera Sekce v
 nějších vztahů Dominika Jozu (email: djoza@spcr.cz\, tel. 733 126 50
 1).\n
URL:https://www.spcr.cz/seminar-k-investicnim-prilezitostem-na-ukrajine
DTSTART:20241204T083000
DTEND:20241204T130000
LOCATION:
END:VEVENT
END:VCALENDAR
