BEGIN:VCALENDAR
PRODID:-//eluceo/ical//2.0/EN
VERSION:2.0
CALSCALE:GREGORIAN
BEGIN:VEVENT
UID:9d27bb6a1767bfebd7c8501e9b5cabdd
DTSTAMP:20260423T192819Z
SUMMARY:Kanadský veletrh Global Energy Show
DESCRIPTION:Název akce: Kanadský veletrh Global Energy Show\nURL: https:/
 /www.spcr.cz/kanadsky-veletrh-global-energy-show\nPopis: \n\nRádi bychom 
 Vás s Ministerstvem průmyslu a obchodu ČR oslovili s nabídkou účasti
  na veletrhu Global Energy Show\, který se uskuteční v Calgary ve dnec
 h 10.–12. června 2025.Nedávno byla otevřena možnost podání přihl
 ášek na Českou oficiální účast na tomto veletrhu. V případě z
 ájmu zúčastnit se veletrhu v rámci české oficiální účasti\, vyp
 lňte prosím přihlášku\, kterou najdete zde. Následně ji zašlete
  projektovému manažerovi Ministerstva průmyslu a obchodu ČR Liborovi K
 ubelkovi (libor.kubelka@mpo.gov.cz).Více informací k plánovaným velet
 rhům a oficiálním účastem ČR obecně najdete zde.V případě jak
 ýchkoliv otázek k veletrhu nebo české účasti\, se neváhejte obrát
 it na Kristýnu Pelikánovou (kristyna.pelikanova@mpo.gov.cz) nebo na Lib
 ora Kubelku (libor.kubelka@mpo.gov.cz).\n
URL:https://www.spcr.cz/kanadsky-veletrh-global-energy-show
DTSTART:20250610T000000
DTEND:20250612T235900
LOCATION:
END:VEVENT
END:VCALENDAR
