BEGIN:VCALENDAR
PRODID:-//eluceo/ical//2.0/EN
VERSION:2.0
CALSCALE:GREGORIAN
BEGIN:VEVENT
UID:f3a2465221d5196bd6a104674b25419b
DTSTAMP:20260423T125212Z
SUMMARY:Presentation of Investment Opportunities in Pakistan
DESCRIPTION:Název akce: Presentation of Investment Opportunities in Pakist
 an\nURL: https://www.spcr.cz/presentation-investment-opportunities-pakista
 n\nPopis: \n\nEvent Details:\n\nDate: 20th November 2024\nTime: 11:00 AM L
 ocal Time / 3:00 PM Pakistan Standard Time\n\nZoom Meeting Link:\nhttps://
 us06web.zoom.us/j/6130231234?pwd=dXU1WW55Q2xKVk4rOVg0Tm5QMU55QT09\n\nMeeti
 ng ID: 613 023 1234\nPasscode: 12345\n\nAman ullah\nFirst Secretary/HoC\nS
 třešovická 854\, 162 00 Praha 6-Střešovice\nEmbassy of Pakistan\, Pra
 gue\nMob: 00420 774 508 122\nPhone: 233 312 868\n
URL:https://www.spcr.cz/presentation-investment-opportunities-pakistan
DTSTART:20241120T110000
DTEND:20241120T121500
LOCATION:
END:VEVENT
END:VCALENDAR
