BEGIN:VCALENDAR
PRODID:-//eluceo/ical//2.0/EN
VERSION:2.0
CALSCALE:GREGORIAN
BEGIN:VEVENT
UID:322b0a284ddb4b5eedade0cfb50a68b7
DTSTAMP:20260423T163118Z
SUMMARY:Minikonference: Srovnání státní podpory exportu vybraných zem
 í EU směrem k Číně a Tchajwanu
DESCRIPTION:Název akce: Minikonference: Srovnání státní podpory export
 u vybraných zemí EU směrem k Číně a Tchajwanu\nURL: https://www.spcr
 .cz/minikonference-srovnani-statni-podpory-exportu-vybranych-zemi-eu-smere
 m-k-cine-tchajwanu\nPopis: \n\nSvaz průmyslu a dopravy Vás srdečně zve
  na minikonferenci: Srovnání přístupu ekonomické diplomacie a podpory
  exportu vybraných zemí EU (ČR\, Německo\, Polsko\, Maďarsko\, Litva)
  směrem k Čínské lidové republice a Čínské republice na Tchaj-wanu
  a jejich souvislost a dopady na bilaterální relaci a investice.Minikonf
 erence se koná v úterý\, 3. prosince 2023 od 14:00 hodin v sídle Svazu
  průmyslu a dopravy\, Freyova 11\, Praha 9 - Vysočany.Akce je zdarma\, a
 le podléhá registraci. Více informací a možnost registrace najdete v 
 přiložené pozvánce.\n
URL:https://www.spcr.cz/minikonference-srovnani-statni-podpory-exportu-vybr
 anych-zemi-eu-smerem-k-cine-tchajwanu
DTSTART:20241203T140000
DTEND:20241203T163000
LOCATION:
END:VEVENT
END:VCALENDAR
