BEGIN:VCALENDAR
PRODID:-//eluceo/ical//2.0/EN
VERSION:2.0
CALSCALE:GREGORIAN
BEGIN:VEVENT
UID:98e7c4695c1811860afd85d33d734906
DTSTAMP:20260423T150132Z
SUMMARY:TIMTOS 2025
DESCRIPTION:Název akce: TIMTOS 2025\nURL: https://www.spcr.cz/timtos-2025\
 nPopis: \n\nS potěšením Vám oznamujeme\, že TIMTOS 2025\, jedna z př
 edních světových výstav pro chytrou výrobu a obráběcí stroje\, se 
 bude konat na výstavišti Taipei Nangang Exhibition Center od 3. do 8. b
 řezna 2025. Na této akci se představí téměř 1 000 vystavovatelů a 
 více než 6 000 stánků\, což posílí její status největší a mezin
 árodně nejuznávanější tchajwanské výstavy obráběcích strojů. T
 IMTOS 2025 představí průkopnické pokroky v oblasti digitální výroby
 \, automatizace a integrovaných řešení AI & Robotics\, které jsou hna
 cí silou inovací v mnoha odvětvích mimo tradiční obráběcí stroje.
 Aktuální informace naleznete na oficiálních webových stránkách: htt
 ps://www.timtos.com.tw/en/index.html.Na podporu účasti na tomto veletrhu
  nabízíme následující pobídkové balíčky. Upozorňujeme\, že nab
 ídky platí do vyčerpání finančního rozpočtu a balíčky jsou posky
 továny podle pořadí přijetí přihlášky.Pro registraci a podání po
 bídkové přihlášky vyplňte formulář "company profile" a zašlete je
 j na emailovou adresu czech@sa.moea.gov.tw nebo cztwec01@sa.moea.org.tw.Pr
 o další informace můžete využít následující kontakt:Mgr. Michaela
  OrságováEkonomické odděleníTchajpejská hospodářská a kulturní k
 ancelář v PrazeTel.: (+420) 234 722 021\n
URL:https://www.spcr.cz/timtos-2025
DTSTART:20250303T000000
DTEND:20250308T235900
LOCATION:Taipei Nangang Exhibition Center
END:VEVENT
END:VCALENDAR
