BEGIN:VCALENDAR
PRODID:-//eluceo/ical//2.0/EN
VERSION:2.0
CALSCALE:GREGORIAN
BEGIN:VEVENT
UID:579b8b4deb611a93b63e9f2c86b778fe
DTSTAMP:20260423T124932Z
SUMMARY:TAIPEI CYCLE 2025
DESCRIPTION:Název akce: TAIPEI CYCLE 2025\nURL: https://www.spcr.cz/taipei
 -cycle-2025\nPopis: \n\nDovolujeme si Vám předat pozvání Tchajpejské
  hospodářské a kulturní kanceláře v Praze na mezinárodní veletrh T
 APEI CYCLE 2025\, který se bude konat v Taipei Nangang Exhibition Center 
 od 26. března do 29. března 2025. Veletrh Taipei Cycle se zaměřuje na
  prezentaci široké škály produktů\, včetně jízdních kol\, dílů\
 , komponentů a příslušenství\, elektrokol\, nákladních kol\, řeše
 ní pro mikromobilitu a chytrých cyklistických služeb. Kromě toho TAIP
 EI CYCLE 2025 představí čtyři nová témata: Chytrá cyklistika\, Inov
 ativní pohon\, Zelená vpřed a Cyklistický ekosystém\, z nichž každ
 é se zaměřuje na nejnovější trendy a inovace v cyklistickém průmys
 lu.Aktuální informace naleznete na oficiálních webových stránkách.N
 a podporu účasti na tomto veletrhu jsou nabízené pobídkové balíčky
 . Upozorňujeme\, že nabídky platí do vyčerpání finančního rozpoč
 tu a balíčky jsou poskytovány podle pořadí přijetí přihlášky.Pro
  registraci a podání pobídkové přihlášky vyplňte formulář "compa
 ny profile" a zašlete jej na emailovou adresu czech@sa.moea.gov.tw nebo c
 ztwec01@sa.moea.org.tw.Pro další informace můžete využít následují
 cí kontakt:Mgr. Michaela OrságováEkonomické odděleníTchajpejská hos
 podářská a kulturní kancelář v PrazeTel.: (+420) 234 722 021\n
URL:https://www.spcr.cz/taipei-cycle-2025
DTSTART:20250326T000000
DTEND:20250328T235900
LOCATION:
END:VEVENT
END:VCALENDAR
