BEGIN:VCALENDAR
PRODID:-//eluceo/ical//2.0/EN
VERSION:2.0
CALSCALE:GREGORIAN
BEGIN:VEVENT
UID:033d13759b8d35d2c3bd88f3d528d613
DTSTAMP:20260423T173430Z
SUMMARY:Zemědělský veletrh AGROEXPO v Izmiru
DESCRIPTION:Název akce: Zemědělský veletrh AGROEXPO v Izmiru\nURL: http
 s://www.spcr.cz/zemedelsky-veletrh-agroexpo-v-izmiru\nPopis: \n\nDovolujem
 e si Vás pozvat na zemědělský veletrh AGROEXPO\, který se uskutečn
 í ve dnech 4.2. - 8.2.2025 v Izmiru v Turecku.Ministerstvo zemědělství
  ČR spolu s Generálním konzulátem v Istanbulu zvou české firmy k ú
 časti na společné expozici na prestižním mezinárodním zemědělské
 m veletrhu AGROEXPO.Nabídka účasti na Veletrhu AGROEXPO\, kterého se m
 ohou české firmy zúčastnit formou společného stánku\, reaguje na ú
 spěšnou spolupráci s Tureckem v oblasti potravinářského a zeměděls
 kého průmyslu v minulých letech. Účast českých firem na veletrhu j
 e finančně podpořena z projektu na podporu ekonomické diplomacie\, je
 nž je realizován ve spolupráci MZe a MZV ČR.Již 20. ročník veletrhu
 \, který je zaměřen především na oblast zemědělské produkce a cho
 vatelství\, je jednou z nejvýznamnějších akcí svého druhu v regionu
 . V loňském roce se na veletrhu\, jenž je největším tureckým a jed
 ním ze čtyř největších evropských zemědělských veletrhů\, běhe
 m pěti dnů představilo 376 tureckých a 85 zahraničních firem z 28 ze
 mí více než 110 tisícům návštěvníků\, z nichž 13164 přijelo z
  93 států. V roce 2025 se uskuteční již 20. ročník tohoto veletrhu
 . Česká republika se této výstavy účastnila v podobném formátu v l
 etech 2020 a 2024.Turecko je jedním z největších světových zeměděl
 ských trhů\, nadále však dováží řadu zemědělských produktů. Ze
 jména pak v živočišné výrobě\, konkrétně při dovozu skotu\, maj
 í čeští chovatelé velmi dobré jméno. Je zde poptávka po nových te
 chnologiích\, systémech zavlažování\, modernizaci\, řízení provoz
 ů\, pokročilých veterinárních postupech\, genetickém materiálu apod
 .Česká republika je v Turecku považována za zemi s moderní zeměděls
 kou produkcí. Prezentace českých produktů a inovací napomůže k zís
 kání pozic na místním trhu a zvýší prestiž českých firem v regio
 nu. Podpora firem ze strany státu je na zdejších trzích velmi pozitivn
 ě vnímána.Pro zájemce z řad českých podnikatelů zajistí Generál
 ní konzulát v Istanbulu zázemí pro účast na společném českém st
 ánku. Z prostředků projektu na podporu ekonomické diplomacie budou hr
 azeny společné výdaje (úhrada pronájmu výstavní plochy a registrač
 ního poplatku\, dále pak úhrada stavby stánku a vybavení\, reklamníc
 h polepů stánku a občerstvení. Předpokládaná celková plocha stánk
 u bude cca 40 m 2 . Firmy si samostatně hradí náklady spojené s fyzick
 ou účastí na tomto veletrhu - cestovní náklady a ubytování zastupuj
 ících osob a dopravní a celní náklady na prezentované produkty.Pro p
 otvrzení účasti kontaktujte prosím obchodního konzula v Istanbulu pan
 a Reného Daňka (tel.: +90 212 368 80 34\; email: rene.danek@mzv.gov.cz) 
 nebo teritorialistu na MZe Lukáše Hercíka (tel.:724970415\; email: luka
 s.hercik@mze.gov.cz) nejpozději do 22. listopadu 2024.\n
URL:https://www.spcr.cz/zemedelsky-veletrh-agroexpo-v-izmiru
DTSTART:20250204T000000
DTEND:20250208T235900
LOCATION:
END:VEVENT
END:VCALENDAR
