BEGIN:VCALENDAR
PRODID:-//eluceo/ical//2.0/EN
VERSION:2.0
CALSCALE:GREGORIAN
BEGIN:VEVENT
UID:12a0111ff501f3ad5ba43bbbe91624bd
DTSTAMP:20260423T163117Z
SUMMARY:New investment and trade opportunities for Czech companies in Argen
 tina
DESCRIPTION:Název akce: New investment and trade opportunities for Czech c
 ompanies in Argentina\nURL: https://www.spcr.cz/new-investment-and-trade-o
 pportunities-czech-companies-argentina\nPopis: \n\nDear business partners\
 ,\nIn collaboration with the Embassy of the Argentine Republic in Prague\,
  we cordially invite you to a Round Table discussion followed by an exclus
 ive meeting for entrepreneurs. We will focus on business cooperation with
  Argentina and explore new opportunities for expanding into its market. C
 ome for exclusive insights\, establish valuable contacts\, and discover th
 e potential of trading with one of the most dynamic economies in Latin Ame
 rica.Round Table: New investment and trade opportunities for Czech compani
 es in Argentina  When: November 28\, 2024Time: 14:00 PM - 16:00 PMWher
 e: Svaz průmyslu a dopravy ČR/ Confederation of Industry of CZ (Freyova
  11\, 190 00 Prague 9\, 2nd floor)\nYou can register at this link.\nWhat t
 o Look Forward To?:\n\nExclusive insights into the Argentine economy\nPres
 entation of incentives and opportunities for investment and business in Ar
 gentina \nDiscussions with experts in international trade\n\nAfterwards:F
 ollowing the round table\, a networking event will take place at the resid
 ence of H.E. Ambassador of Argentina (transport on your own)17:00 - 19:00
  Reception at the Argentinian ResidenceYou are warmly invited to an infor
 mal gathering at the official residence of the Argentine Ambassador\, wher
 e you can enjoy a glass of authentic Argentine wine while seizing a unique
  opportunity to make new connections and engage in deeper discussions with
  fellow participants. This session is exclusively for attendees of the rou
 nd table.\n\n\n\n\n\n\n\n\n\n\n\n\n\n\n\n\n\n\n\nIn August of this year\, 
 a new law known as "RIGI" came into effect in Argentina\, promising great
 er openness of the economy to foreign investors. The goal is to attract s
 ignificant foreign investments\, ensure tax\, customs\, and exchange rate 
 stability for the next 30 years\, and provide legal certainty even in the 
 event of changes in government conditions. Argentina is striving to suppor
 t global supply chains.Promising sectors and\, consequently\, opportuniti
 es for Czech exporters include agriculture and food processing\, mining 
 technology\, ICT\, electronics\, cybersecurity\, water management\, and e
 nvironmental services.\n\n\n\n\n\n\n\n\n\n\n\n\n\n\n\n\nSeating capacity i
 s limited. Register by November 19th\, 2024\, to avoid missing a great op
 portunity to discuss with distinguished guests the opportunities in one of
  the largest economies in Latin America! We will share the detailed agenda
  with you as soon as possible. We look forward to seeing you!\n \nFor mor
 e information contact the External Relations Manager Irena Tauerová Haví
 řová (ihavirova@spcr.cz\, +420734132061) \n
URL:https://www.spcr.cz/new-investment-and-trade-opportunities-czech-compan
 ies-argentina
DTSTART:20241128T140000
DTEND:20241128T160000
LOCATION:
END:VEVENT
END:VCALENDAR
