BEGIN:VCALENDAR
PRODID:-//eluceo/ical//2.0/EN
VERSION:2.0
CALSCALE:GREGORIAN
BEGIN:VEVENT
UID:fb80df4ced0ecbd72482a0c184ba22bb
DTSTAMP:20260423T163341Z
SUMMARY:Zaměstnávání cizinců ze třetích zemí
DESCRIPTION:Název akce: Zaměstnávání cizinců ze třetích zemí\nURL:
  https://www.spcr.cz/zamestnavani-cizincu-ze-tretich-zemi-0\nPopis: \n\nC
 ílem diskusního fóra je seznámit účastníky s aktuálními legislati
 vními podmínkami. Účastníci získají praktické informace o zaměstn
 ávání cizinců\, dozví se\, jak úspěšně integrovat a stabilizovat 
 zahraniční zaměstnance ve své firmě. Získají inspiraci z příklad
 ů dobré praxe od zkušených zaměstnavatelů. Akce je určena pro ředi
 tele\, manažery a personalisty\, kteří zvažují zaměstnávání praco
 vníků ze zahraničí nebo se touto problematikou již aktivně zabývaj
 í.\nPROGRAM\n\nZaměstnávání cizinců ze třetích zemí (Tereza Hejlo
 vá\, SP ČR)\n\no Program kvalifikovaný zaměstnanec\no Lex Ukrajina 7\n
 o Aktuální novinky\no Pilotní projekt Indonésie\n\n\nPříklady dobré
  praxe: Indonésie - pohled zaměstnavatele (Vlastimil Václavík\, Škoda
  Group)\n\nProč Asie?\no Diverzifikace náborových trhů\n\n\nNábor na 
 Filipínách a další možnosti náboru ve třetích zemích (Gabriela Pc
 hálková\, KASEA CZ)\n\no Výhody a nevýhody zaměstnávání z Filipín
 \no Jak probíhá nábor?\no Nejčastější profese a výhody dalších n
 árodností\n\n\nJak zajistit úspěšný onboarding a stabilizaci zahrani
 čních zaměstnanců? (Jan Rozkopal\, KASEA CZ)\n\no Úspěšný onboardi
 ng pracovníků z Filipín\no Jak motivovat a stabilizovat zahraniční pr
 acovníky\no Co Filipínci očekávají?\n\n\nDiskuze\n\nOdpovědi na vaš
 e otázky a sdílení zkušeností\n\n\n\nČASOVÝ HARMONOGRAM\n09:45 – 
 10:00 Prezence účastníků10:00 – 11:00 1. Informační blok11:00 – 
 11:30 Přestávka11:30 – 12:30 2. Informační blok + diskuse a sdílen
 í zkušenostíMODERÁTORMgr. Tereza Hejlová\, MBA\, manažerka pro zamě
 stnávání cizinců a projekty Svazu průmyslu a dopravy ČRREGISTRACENa 
 akci\, se\, prosím\, registrujte ZDE do pondělí 25. 11. 2024\nV přípa
 dě dotazů se prosím obraťte na regionální kancelář SP ČR: Ing. N.
  Vojtíšková\, na e-mail: nvojtiskova@spcr.cz\, mobil 733 643 520\n
URL:https://www.spcr.cz/zamestnavani-cizincu-ze-tretich-zemi-0
DTSTART:20241128T100000
DTEND:20241128T123000
LOCATION:
END:VEVENT
END:VCALENDAR
