BEGIN:VCALENDAR
PRODID:-//eluceo/ical//2.0/EN
VERSION:2.0
CALSCALE:GREGORIAN
BEGIN:VEVENT
UID:f80aeaf8710fcc86b97bc1d36df97198
DTSTAMP:20260423T150340Z
SUMMARY:HR fresh: Šťavnaté novinky na poli HR 2024
DESCRIPTION:Název akce: HR fresh: Šťavnaté novinky na poli HR 2024\nURL
 : https://www.spcr.cz/hr-fresh-stavnate-novinky-na-poli-hr-2024-0\nPopis: 
 \n\nNenechte si ujít podzimní HR Fresh\, kde se zaměříme na klíčov
 é aspekty současného trhu práce\, aktuální legislativní změny a in
 ovativní trendy v oblasti zaměstnávání.Na jaká témata se můžete t
 ěšit? Představíme Vám náš nejnovější průzkum monitorující ak
 tuální situaci na trhu práce – Hofmann MonitorVyužití AI v personal
 istice\, nové trendy\, ukázky a možnosti školení v 55 jazycíchProble
 matika zaměstnávání cizinců\, legislativní změny a flexi novela zá
 koníku práceŠvarc systém z pohledu zaměstnáváníProjekt Indonésie 
 a mnohem víceTématy Vás provedou naše kolegyně Bohumila Černochová 
 a Denisa Divišová\, ke kterým se připojí specialista na HR a AI techn
 ologie Matěj Matolín\, zakladatel vzdělávací platformy DigitálníHR\
 , Lukáš Gebouský\, advokátní koncipient se zkušenostmi v oblasti pra
 covního práva\, BOROVEC LEGAL a Tereza Hejlová\, manažerka pro zaměst
 návání cizinců a projekty - Svaz průmyslu a dopravy ČR.Účast je zd
 arma pro 1 osobu za společnost:  Členské firmy Svaz průmyslu a dopra
 vy České republikyKlienta Hofmann PersonalREGISTRUJTE SE ZDE V případ
 ě registrace více účastníků z jedné členské společnosti\, nebo r
 egistrace účastníka z nečlenské společnosti\, činí poplatek 250 K
 č s DPH na osobu. Máte-li dotazy či nejasností\, kontaktujte Tereza.Pa
 leckova@hofmann-personal.cz\, +420 725 988 705.\n
URL:https://www.spcr.cz/hr-fresh-stavnate-novinky-na-poli-hr-2024-0
DTSTART:20241127T090000
DTEND:20241127T120000
LOCATION:
END:VEVENT
END:VCALENDAR
