BEGIN:VCALENDAR
PRODID:-//eluceo/ical//2.0/EN
VERSION:2.0
CALSCALE:GREGORIAN
BEGIN:VEVENT
UID:7003d805f3316a14d5c10f1754040edd
DTSTAMP:20260423T163004Z
SUMMARY:Proces šetření a uznávání nemocí z povolání
DESCRIPTION:Název akce: Proces šetření a uznávání nemocí z povolán
 í\nURL: https://www.spcr.cz/proces-setreni-uznavani-nemoci-z-povolani\nPo
 pis: \n\n \nPROGRAM:08:30 - 09:00 Registrace účastníků09:00 - 09:10 Z
 ahájení semináře - ředitelka Krajské hygienické stanice Libereckéh
 o kraje se sídlem v Liberci JanaLoosová\, regionální manažerka Svazu 
 průmyslu a dopravy Naďa Vojtíšková\, ředitel Okresní hospodářské
  komory LiberecMartin Procházka09:10 - 09:45 Nemoci z povolání v ČR (M
 UDr. Lipšová – Státní zdravotní ústav)09:45 - 10:15 Proces uznáv
 ání nemocí z povolání (MUDr. Čermáková – oddělení nemocí z po
 volání v Krajskénemocnici Liberec\, a.s.)10:15 - 10:45 Ověřování po
 dmínek vzniku onemocnění pro účely posuzování nemocí z povolání 
 (Ing. Forysová\, Ph.D.– Krajská hygienická stanice Libereckého kraje
 )10:45 - 11:15 Proces přezkoumání lékařského posudku o uznání/neuz
 nání nemoci z povolání (Mgr. Gerö – Krajskýúřad Libereckého kra
 je)11:15 - 12:00 Diskuze\, oběd12:00 - 12:30 Chronické onemocnění bede
 rní páteře (MUDr. Lipšová – Státní zdravotní ústav) jako nemoc 
 z povolání12:30 - 13:00 Ověření hygienických podmínek na pracovišt
 i pro účely posuzování nemoci z povolání – chronickéonemocnění 
 bederní páteře (Ing. Forysová\, Ph.D.- Krajská hygienické stanice Li
 bereckého kraje)13:00 - 13:30 Nová položka v seznamu Nemoci z povolán
 í z pohledu Zdravotního ústavu – posouzení zatíženíbederní páte
 ře (Mgr. Mrázová – Zdravotní ústav se sídlem v Ústí nad Labem)13
 :30 - 14:00 Diskuze\, závěr\nCENA: 1200\,- Kč (+ DPH) / 900\,- Kč (+ D
 PH) pro členy Krajské hospodářské komory KHK\, OHK Liberec\, SP ČR n
 ebo Spolku pro rozvoj LZ LBCRegistrace: Na seminář se prosím registrujt
 e do 15.11.2024 ZDE\n
URL:https://www.spcr.cz/proces-setreni-uznavani-nemoci-z-povolani
DTSTART:20241119T083000
DTEND:20241119T140000
LOCATION:
END:VEVENT
END:VCALENDAR
