BEGIN:VCALENDAR
PRODID:-//eluceo/ical//2.0/EN
VERSION:2.0
CALSCALE:GREGORIAN
BEGIN:VEVENT
UID:7dfec0d20093c8542ee2aa160e166fda
DTSTAMP:20260423T150052Z
SUMMARY:Živá knihovna povolání Trutnov
DESCRIPTION:Název akce: Živá knihovna povolání Trutnov\nURL: https://w
 ww.spcr.cz/ziva-knihovna-povolani-trutnov\nPopis: \n\nRozhoduješ se\, na 
 jakou střední školu půjdeš? Čím chceš být? Napadlo tě\, kde mů
 žeš po škole pracovat?Přijď si na vlastní kůži vyzkoušet zajímav
 é profese! Seznam se s firmami ve tvém okolí a vyber si tu správnou š
 kolu pro Tebe.S rozhodováním ti pomůže:- Technik řídicích systémů
  – Hitachi Energy Czech Republic s.r.o.- Manažer výrobní kvality - Pe
 pperl+Fuchs Manufacturing s.r.o.- Elektromontér – ČEZ Distribuce a.s.-
  Optické kontroly kvality v elektrotechnickém průmyslu – Siemens\, s.
 r.o.- Technikiáda – Centrum praxí s.r.o.- Šička\, švadlena – LUKO
 \, s. r. o.- Můj život po škole – Krajský úřad Královéhradeckéh
 o kraje- Radiologický asistent\, ergoterapeut a fyzioterapeut - Oblastní
  nemocnice Trutnov a.s.- Elektrotechnik - MZ Liberec a.s.- Strojař/konstr
 uktér a Elektrotechnik - mdexx Magnetronic Devices s.r.o.Bližší inform
 ace a kontakt pro registraci na telefonu 733 643 520.\n
URL:https://www.spcr.cz/ziva-knihovna-povolani-trutnov
DTSTART:20241121T000000
DTEND:20241121T235959
LOCATION:
END:VEVENT
END:VCALENDAR
