BEGIN:VCALENDAR
PRODID:-//eluceo/ical//2.0/EN
VERSION:2.0
CALSCALE:GREGORIAN
BEGIN:VEVENT
UID:25aeb239c82fc5869e666f65cd7fd855
DTSTAMP:20260423T145924Z
SUMMARY:Živá knihovna povolání Hradec Králové
DESCRIPTION:Název akce: Živá knihovna povolání Hradec Králové\nURL: 
 https://www.spcr.cz/ziva-knihovna-povolani-hradec-kralove-0\nPopis: \n\nRo
 zhoduješ se\, na jakou střední školu půjdeš? Čím chceš být? Napa
 dlo tě\, kde můžeš po škole pracovat?Přijď si na vlastní kůži vy
 zkoušet zajímavé profese! Seznam se s firmami ve tvém okolí a vyber s
 i tu správnou školu pro Tebe.S rozhodováním ti pomůže:- Stavební te
 chnik\, stavební dělník – silničář\, projektant – koncern MEDIS 
 – M - SILNICE a.s.\,M - PROJEKCE s.r.o.- Zámečník\, svářeč - Axis 
 a.s.- Elektromontér – ČEZ Distribuce a.s.- Všeobecná sestra – Faku
 ltní nemocnice Hradec Králové- Můj život po škole – Krajský úřa
 d Královéhradeckého kraje- Bankovní pracovník – ČSOB a.s.- Technik
 iáda – Centrum praxí s.r.o.Bližší informace a kontakt pro registrac
 i na telefonu 733 643 520.\n
URL:https://www.spcr.cz/ziva-knihovna-povolani-hradec-kralove-0
DTSTART:20241115T000000
DTEND:20241115T235959
LOCATION:
END:VEVENT
END:VCALENDAR
