BEGIN:VCALENDAR
PRODID:-//eluceo/ical//2.0/EN
VERSION:2.0
CALSCALE:GREGORIAN
BEGIN:VEVENT
UID:8b84b6538b726e62c8feb6fd03224a66
DTSTAMP:20260423T150340Z
SUMMARY:Zaměstnávání kvalifikovaných cizinců v ČR
DESCRIPTION:Název akce: Zaměstnávání kvalifikovaných cizinců v ČR\
 nURL: https://www.spcr.cz/zamestnavani-kvalifikovanych-cizincu-v-cr\nPopis
 : \n\nMinisterstvo průmyslu a obchodu pořádá v tomto roce poslední se
 minář na téma zaměstnávání kvalifikovaných cizinců v ČR. Semin
 ář se uskuteční v Praze  3. prosince 2024 v sídle Ministerstva prům
 yslu a obchodu\, Na Františku 32 v Praze. V příloze tohoto e-mailu na
 leznete oficiální pozvánku a program semináře.Cílem semináře je po
 skytnout užitečné a aktuální informace k fungování vládních prog
 ramů a projektů ekonomické migrace a zaměstnávání cizinců ze třet
 ích zemí obecně. Seminář je určen zaměstnavatelům\, kteří mají 
 zájem o novinky v oblasti ekonomické migrace a dalším subjektům\, kt
 eré se chtějí blíže seznámit s touto problematikou. Seminář je re
 alizován ve spolupráci s Ministerstvem zahraničních věcí\, Minister
 stvem vnitra a Ministerstvem práce a sociálních věcí. Na semináři r
 ovněž vystoupí zástupci Státního úřadu inspekce práce a Integrač
 ního centra Praha\, o.p.s. Dotazy z praxe Úřadů práce zodpoví zástu
 pce Generálního ředitelství Úřadu práce.Registrace na seminář je 
 zdarma a probíhá vyplněním registračního formuláře do neděle 1. 
 12. 2024. V případě naplnění kapacity bude registrace ukončena dří
 ve.Podrobnosti o semináři a registrace\n
URL:https://www.spcr.cz/zamestnavani-kvalifikovanych-cizincu-v-cr
DTSTART:20241203T090000
DTEND:20241203T154500
LOCATION:
END:VEVENT
END:VCALENDAR
