BEGIN:VCALENDAR
PRODID:-//eluceo/ical//2.0/EN
VERSION:2.0
CALSCALE:GREGORIAN
BEGIN:VEVENT
UID:8f3bd6e1582de57f77d0f9a0f610128c
DTSTAMP:20260423T163341Z
SUMMARY:Fórum: Investment Opportunities in Indonesia 2024
DESCRIPTION:Název akce: Fórum: Investment Opportunities in Indonesia 2024
 \nURL: https://www.spcr.cz/forum-investment-opportunities-indonesia-2024\n
 Popis: \n\nVelvyslanectví Indonésie v Praze vás zve na podnikatelské f
 órum.\nVíce informací najdete v přiloženém letáku.\n
URL:https://www.spcr.cz/forum-investment-opportunities-indonesia-2024
DTSTART:20241114T101500
DTEND:20241114T140000
LOCATION:
END:VEVENT
END:VCALENDAR
