BEGIN:VCALENDAR
PRODID:-//eluceo/ical//2.0/EN
VERSION:2.0
CALSCALE:GREGORIAN
BEGIN:VEVENT
UID:83ea5cd6f22d24f2b75395a51220214d
DTSTAMP:20260423T125131Z
SUMMARY:Hannover Messe 2025
DESCRIPTION:Title: Hannover Messe 2025\nURL: https://www.spcr.cz/hannover-m
 esse-2025\nAbout: \nVeletrh HANNOVER MESSE – vaše vstupenka do světa p
 růmyslové budoucnosti!\nZveme vás na další ročník mezinárodního v
 eletrhu HANNOVER MESSE \, který se uskuteční 31. 3. - 4. 4. 2025 v Han
 noveru. HANNOVER MESSE je přední světový průmyslový veletrh. Pod hla
 vním tématem „Průmyslová transformace“ se zde sejde více než 4 0
 00 vystavujících firem z oblasti strojírenství\, elektrotechnického a
  digitálního průmyslu a energetiky\, aby představily řešení pro vý
 robu a zásobování energiemi dneška i zítřka.Hlavními výstavními o
 blastmi veletrhu v roce 2025 jsou inteligentní výroba\, digitální ekos
 ystémy\, energie pro průmysl\, technologie stlačeného vzduchu a vakua\
 , subdodávky\, future hub a mezinárodní obchod a investice. Nabídku do
 plňuje konferenční program s přibližně 1 600 přednášejícími. Pa
 rtnerskou zemí bude Kanada. V případě dotazů k veletrhu můžete ko
 ntaktovat výhradní zastoupení pořadatele HANNOVER MESSE v ČR společ
 nost PROveletrhy (info@proveletrhy.cz). Podrobné informace ke všem díl
 čím tématům nalezte na www.hannovermesse.de.\n
URL:https://www.spcr.cz/hannover-messe-2025
DTSTART:20250331T090000
DTEND:20250404T160000
LOCATION:Hannover
END:VEVENT
END:VCALENDAR
