BEGIN:VCALENDAR
PRODID:-//eluceo/ical//2.0/EN
VERSION:2.0
CALSCALE:GREGORIAN
BEGIN:VEVENT
UID:00f218905e5b9a6f4172b744612d385a
DTSTAMP:20260422T223526Z
SUMMARY:Podnikatelská mise do Tuniska
DESCRIPTION:Název akce: Podnikatelská mise do Tuniska\nURL: https://www.s
 pcr.cz/podnikatelska-mise-do-tuniska-0\nPopis: \n\nSvaz průmyslu a doprav
 y vás zve k účasti v podnikatelské delegaci doprovázející ministra
  zahraničních věcí ČR pana Jana Lipavského na jeho zahraniční prac
 ovní cestě do Tuniska. Pracovní cesta se uskuteční v termínu 23.-2
 4. dubna 2025 a za Svaz průmyslu ji povede člen představenstva Petr J
 onák.Delegace během cesty navštíví tuniské hlavní město Tunis\, kd
 e bude mít na programu podnikatelské fórum s možností B2B jednání s
  tuniskými firmami\, sektorovými federacemi a státními subjekty\, dá
 le setkání s ministrem zahraničních věcí ČR a networking mezi firm
 ami a účastníky business mise s cílem prohloubit a navázat kontakty.
 Účast v této delegaci je určena pro firmy a organizace\, které se ak
 tivně zajímají o teritorium Tuniska a severní Afriky. Prioritními se
 ktory pro tuto podnikatelskou delegaci jsou energetika\, vodohospodářst
 ví\, odpadní technologie\, obrana\, zemědělství\, strojírenství a z
 dravotnictví.V případě zájmu o účast vás prosíme o následující
 :Zaslání vyplněné\, podepsané a naskenované závazné přihlášky (
 najdete níže).Vyplnění elektronického registračního formuláře\, 
 který obsahuje informace nezbytné pro Vaše uvedení v katalogu podnikat
 elské mise\, vyhledání vhodných partnerů pro B2B networking\, ale i p
 ro odbavení v letadle vládní letky či ubytování v hotelu.Zaslání 
 skenu datové stránky vašeho pasu (platnost pasu min. 6 měsíců po n
 ávratu zpět do ČR).Vyplnění jednoho vzorového snímku v powerpointu
  do společné prezentace\, která může být promítána v rámci networ
 kingových akcí.Zaslání profilové fotografie účastníka do připra
 veného katalogu firem (min. rozlišení 500 Kb\, 600 x 800 pixelů).Loga 
 společnosti\, kterou budete na podnikatelské misi zastupovat.Dokumenty z
 ašlete na e-mail djoza@spcr.cz nejpozději do 10. dubna 2025 do 18:00 
 hod. Vzhledem k omezené kapacitě prosíme o včasnou registraci. - regis
 trace prodlouženy!Při vyplňování profilu mějte prosím na paměti\, 
 že slouží jako podklad pro výběr firem a partnerů pro networking a t
 aké pro výrobu prezentačního tištěného katalogu mise\, který budem
 e připravovat v angličtině a jehož cílem je co nejlépe druhou stran
 u seznámit s profily a kontaktními údaji zúčastněných firem. Prosí
 me proto o co nejkonkrétnější upřesnění vašich zájmů.Upozorňuje
 me\, že bez vyplnění elektronického formuláře nemůžeme vaši přih
 lášku zpracovat. Výběr místních firem a partnerů pro networking bu
 de probíhat na základě vámi dodaných profilů a informací o vaší f
 irmě v tomto elektronickém formuláři. Prosíme proto o co nejkonkrétn
 ější upřesnění vašich zájmů.Další pokyny vám sdělíme po obdr
 žení vaší závazné přihlášky a provedení elektronické registrace
 . Informace vám budeme průběžně zasílat elektronickou poštou\, vče
 tně zálohové faktury na účastnický poplatek pro firmy zařazené do 
 podnikatelské delegace. Pořadatelé si vyhrazují právo odmítnout zá
 jemce o účast s ohledem na vhodnost oborového zaměření a v případ
 ě převisu poptávky nad počtem míst v letadle. Děkujeme za pochopení
 . Kontakt na organizátora:Dominik Jozamanažer Sekce vnějších vztahů
 djoza@spcr.cztel. 733 126 501Nepřehlédněte: informace o navštívenýc
 h teritoriích a obchodních příležitostech: BusinessInfo – Tunisko\n
URL:https://www.spcr.cz/podnikatelska-mise-do-tuniska-0
DTSTART:20250423T090000
DTEND:20250424T235900
LOCATION:
END:VEVENT
END:VCALENDAR
