BEGIN:VCALENDAR
PRODID:-//eluceo/ical//2.0/EN
VERSION:2.0
CALSCALE:GREGORIAN
BEGIN:VEVENT
UID:4c2e03763137190ae0d6d003e34676c3
DTSTAMP:20260423T131009Z
SUMMARY:Webinář Světové banky - zapojení soukromého sektoru do projek
 tu West Africa Regional Electricity Market Program 
DESCRIPTION:Název akce: Webinář Světové banky - zapojení soukromého 
 sektoru do projektu West Africa Regional Electricity Market Program \nURL:
  https://www.spcr.cz/webinar-svetove-banky-zapojeni-soukromeho-sektoru-do-
 projektu-west-africa-regional-electricity\nPopis: \n\nThis second market 
 engagement webinar focuses on one of the key elements of Mission 300\, th
 e West Africa Regional Electricity Market Program (WA-REMP). WA-REMP i
 s $2.8B strategic initiative to enhance regional energy integration\, conn
 ectivity and electrification across 15 West African countries and region
 al entities like the Economic Community of West African States (ECOWAS) 
 and the West African Power Pool (WAPP). WA-REMP received approval to pro
 ceed in January 2025.\nThe session will take place on Tuesday\, April 8\,
  2025 at 15:00 - 16:30  (Prague time)\nRegister for webinar:\nIf you woul
 d like to attend\, register now via this link:\nhttps://mcas-proxyweb.mcas
 .ms/certificate-checker?login=false&originalUrl=https%3A%2F%2Fworldbankgro
 up.webex.com.mcas.ms%2Fweblink%2Fregister%2Fr470d366ee25d3f5f27a7e839b005b
 9e1%3FMcasTsid%3D20893&McasCSRF=107d593c7baa8c7212d172bb2a09cad79863aac10a
 997447ad23df2a68d4605a\nWhen your registration is approved\, you'll receiv
 e an invitation to join the webinar.\nAgenda:\nMission 300 is an initiativ
 e that aims to provide a reliable energy supply to 300 million people in s
 ub-Saharan Africa by 2030. This initiative is one of the World Bank’s ke
 y priorities and will create a significant pipeline of major opportunities
  over the next few years in the areas of power generation\, transmission\,
  distribution and advisory support.\nThis webinar\, led jointly by the Wor
 ld Bank and representatives of the countries involved in the initial phase
 s of WA-REMP\, Cote d’Ivoire\, Benin\, Ghana\, and Mauritania\, will pro
 vide interested suppliers with:- A recap of Mission 300- An overview of WA
 -REMP- A detailed look at the initiative’s phases and the individual pro
 jects and procurements that it will comprise- A recap of the Bank’s Proc
 urement Framework- Details of how suppliers can get involved\nWe look forw
 ard to seeing you there.\n
URL:https://www.spcr.cz/webinar-svetove-banky-zapojeni-soukromeho-sektoru-d
 o-projektu-west-africa-regional-electricity
DTSTART:20250408T150000
DTEND:20250408T163000
LOCATION:
END:VEVENT
END:VCALENDAR
