BEGIN:VCALENDAR
PRODID:-//eluceo/ical//2.0/EN
VERSION:2.0
CALSCALE:GREGORIAN
BEGIN:VEVENT
UID:764a31409f8d9203cba758478fe521d5
DTSTAMP:20260423T150357Z
SUMMARY:Vietnam International Sourcing 2025
DESCRIPTION:Název akce: Vietnam International Sourcing 2025\nURL: https://
 www.spcr.cz/vietnam-international-sourcing-2025\nPopis: \n\nDovolujeme si 
 Vás informovat o veletrhu pořádaném Ministerstvem průmyslu a obchodu 
 Vietnam - Vietnam International Sourcing 2025. Tato akce se bude konat od 
 4. do 6. září 2025 v Ho Či Minově Městě ve Vietnamu.Cílem akce je 
 posílit obchod a spolupráci mezi podniky z Vietnamu a mezinárodními pa
 rtnery\, nabízející příležitosti pro navazování kontaktů\, růst 
 podnikání a rozšiřování trhů v oblastech výroby\, exportu a sourci
 ngu. Tento veletrh je ideální příležitost pro zúčastněné podniky 
 prozkoumat nová partnerství a obchodní možnosti ve Vietnamu.Podrobné 
 informace týkající se akce Vietnam International Sourcing 2025 naleznet
 e v přiložené brožuře případně na oficiálních webových stránk
 ách. \n
URL:https://www.spcr.cz/vietnam-international-sourcing-2025
DTSTART:20250904T000000
DTEND:20250906T235900
LOCATION:Vietnam
END:VEVENT
END:VCALENDAR
